BEGIN:VCALENDAR
VERSION:2.0
PRODID:-//ECV - ECPv6.15.20//NONSGML v1.0//EN
CALSCALE:GREGORIAN
METHOD:PUBLISH
X-ORIGINAL-URL:https://cienciaviva.org.br
X-WR-CALDESC:Eventos para ECV
REFRESH-INTERVAL;VALUE=DURATION:PT1H
X-Robots-Tag:noindex
X-PUBLISHED-TTL:PT1H
BEGIN:VTIMEZONE
TZID:America/Sao_Paulo
BEGIN:STANDARD
TZOFFSETFROM:-0200
TZOFFSETTO:-0300
TZNAME:-03
DTSTART:20190217T020000
END:STANDARD
END:VTIMEZONE
BEGIN:VEVENT
DTSTART;VALUE=DATE:20200202
DTEND;VALUE=DATE:20200203
DTSTAMP:20260425T193229
CREATED:20200207T214207Z
LAST-MODIFIED:20200207T214413Z
UID:2295-1580601600-1580687999@cienciaviva.org.br
SUMMARY:Dia Mundial das Áreas Úmidas
DESCRIPTION:Dia Mundial das Áreas Úmidas. A data foi instituída pelo Comitê Permanente da Convenção Ramsar\, em homenagem ao dia da aprovação da Convenção pelos países partes\, 2 de fevereiro de 1971\, na cidade iraniana de Ramsar. A ideia é destacar o benefício que essas áreas proporcionam para as espécies de fauna e flora e para o bem-estar de populações humanas\, principalmente para alertar a importância de sua manutenção. \nO tema deste ano é “Áreas úmidas e biodiversidade” e tem tudo a ver com o Brasil\, o país mais megadiverso do mundo\, detentor de 20% do total de espécies existentes na Terra. O Pantanal Matogrossense\, entre Mato Grosso e Mato Grosso do Sul; as grandes várzeas presentes em toda Amazônia; e os banhados do Taim\, no Rio Grande do Sul\, são considerados áreas úmidas. \nÁreas úmidas são ecossistemas integrados por ambientes terrestres e aquáticos\, continentais ou costeiros\, naturais ou artificiais\, permanente ou periodicamente inundados ou com solos encharcados. As águas podem ser doces\, salobras ou salgadas\, com comunidades de plantas e animais adaptados a sua dinâmica hídrica. Elas existem em todo o planeta e têm uma importância muito grande para a conservação da biodiversidade e para a qualidade de vida das pessoas. \nNada menos que 40% das espécies vegetais e animais do mundo vivem ou se reproduzem em áreas úmidas\, assim como 1 bilhão de pessoas tiram o sustento a partir do uso das riquezas naturais desses lugares. No Brasil\, país rico em recursos hídricos\, são muitos os ecossistemas com essas características.
URL:https://cienciaviva.org.br/evento/dia-mundial-das-areas-umidas/
CATEGORIES:Calendário de Eventos,Vida e Saúde
ATTACH;FMTTYPE=image/jpeg:https://cienciaviva.org.br/wp-content/uploads/2020/02/WWD20_PosterA1_E-Pt-2-de-fev-2020-Biod_page-0001-scaled.jpg
END:VEVENT
END:VCALENDAR