BEGIN:VCALENDAR
VERSION:2.0
PRODID:-//ECV - ECPv6.15.20//NONSGML v1.0//EN
CALSCALE:GREGORIAN
METHOD:PUBLISH
X-WR-CALNAME:ECV
X-ORIGINAL-URL:https://cienciaviva.org.br
X-WR-CALDESC:Eventos para ECV
REFRESH-INTERVAL;VALUE=DURATION:PT1H
X-Robots-Tag:noindex
X-PUBLISHED-TTL:PT1H
BEGIN:VTIMEZONE
TZID:America/Sao_Paulo
BEGIN:STANDARD
TZOFFSETFROM:-0200
TZOFFSETTO:-0300
TZNAME:-03
DTSTART:20190217T020000
END:STANDARD
END:VTIMEZONE
BEGIN:VEVENT
DTSTART;TZID=America/Sao_Paulo:20200210T093000
DTEND;TZID=America/Sao_Paulo:20200220T130000
DTSTAMP:20260425T234909
CREATED:20200118T203357Z
LAST-MODIFIED:20200118T203357Z
UID:2107-1581327000-1582203600@cienciaviva.org.br
SUMMARY:(2020) VII Curso de Capacitação de Mediadores para atuação em Espaços de Educação Não Formal
DESCRIPTION:Curso de Capacitação de Mediadores para Atuação em Espaços de Educação Museal. \n 
URL:https://cienciaviva.org.br/evento/2020-vii-curso-de-capacitacao-de-mediadores-para-atuacao-em-espacos-de-educacao-nao-formal/
LOCATION:Espaço Ciência Viva\, Av. Heitor Beltrão\, 321 (esquina com R. Pareto)\, Rio de Janeiro\, Rio de Janeiro\, 20550-000\, Brasil
CATEGORIES:Calendário de Eventos,Cursos
ATTACH;FMTTYPE=image/jpeg:https://cienciaviva.org.br/wp-content/uploads/2020/01/Programacao2020.jpg
ORGANIZER;CN="Espa%C3%A7o Ci%C3%AAncia Viva":MAILTO:museu@cienciaviva.org.br
END:VEVENT
END:VCALENDAR