BEGIN:VCALENDAR
VERSION:2.0
PRODID:-//ECV - ECPv6.15.20//NONSGML v1.0//EN
CALSCALE:GREGORIAN
METHOD:PUBLISH
X-WR-CALNAME:ECV
X-ORIGINAL-URL:https://cienciaviva.org.br
X-WR-CALDESC:Eventos para ECV
REFRESH-INTERVAL;VALUE=DURATION:PT1H
X-Robots-Tag:noindex
X-PUBLISHED-TTL:PT1H
BEGIN:VTIMEZONE
TZID:America/Sao_Paulo
BEGIN:STANDARD
TZOFFSETFROM:-0200
TZOFFSETTO:-0300
TZNAME:-03
DTSTART:20190217T020000
END:STANDARD
END:VTIMEZONE
BEGIN:VEVENT
DTSTART;VALUE=DATE:20200503
DTEND;VALUE=DATE:20200504
DTSTAMP:20260423T013032
CREATED:20200502T135242Z
LAST-MODIFIED:20200502T135243Z
UID:5569-1588464000-1588550399@cienciaviva.org.br
SUMMARY:Dia Mundial da Energia Solar
DESCRIPTION:Capa: Imagem montada com diferentes filtros de energia do Sol. Fonte: Galeria de Imagens Sol\, NASA. \nO Dia do Sol (3 de maio) foi criado nos Estados Unidos em  1978\,  designado pelo Presidente dos Estados Unidos Jimmy Carter\,  especificamente dedicado à defesa da Energia Solar\,  após uma resolução conjunta do Congresso. \nFoi modelado no bem-sucedido Dia da Terra de 22 de abril de 1970. \n Foi  ideia de Denis Hayes \, que também coordenou o Dia da Terra\,  em 1970. \nAinda não é uma data comemorada por muitas nações\, mas várias empresas e instituições relacionadas à Energia Solar ainda desenvolvem campanhas a atividades nesta data. \nUm bom dia para estudar e se encantar com a nossa Estrela. \nE aprender a como conviver com as energias de nossa preciosa Anã Amarela! \n 
URL:https://cienciaviva.org.br/evento/dia-mundial-da-energia-solar/
LOCATION:Planeta Terra\, Sistema Solar\, 3o\, planeta.
CATEGORIES:Calendário de Eventos,Universo,Vida e Saúde
ATTACH;FMTTYPE=image/jpeg:https://cienciaviva.org.br/wp-content/uploads/2020/05/SlicesOfSDO_rotor_stand.4Kx4K.03000-1-scaled.jpg
END:VEVENT
END:VCALENDAR