BEGIN:VCALENDAR
VERSION:2.0
PRODID:-//ECV - ECPv6.15.20//NONSGML v1.0//EN
CALSCALE:GREGORIAN
METHOD:PUBLISH
X-ORIGINAL-URL:https://cienciaviva.org.br
X-WR-CALDESC:Eventos para ECV
REFRESH-INTERVAL;VALUE=DURATION:PT1H
X-Robots-Tag:noindex
X-PUBLISHED-TTL:PT1H
BEGIN:VTIMEZONE
TZID:America/Sao_Paulo
BEGIN:STANDARD
TZOFFSETFROM:-0200
TZOFFSETTO:-0300
TZNAME:-03
DTSTART:20190217T020000
END:STANDARD
END:VTIMEZONE
BEGIN:VEVENT
DTSTART;VALUE=DATE:20200511
DTEND;VALUE=DATE:20200518
DTSTAMP:20260423T095723
CREATED:20200208T000433Z
LAST-MODIFIED:20200513T200057Z
UID:2298-1589155200-1589759999@cienciaviva.org.br
SUMMARY:SEMANA DE MUSEUS (MUSEUM WEEK) 2020: CHEGUE JUNTO!
DESCRIPTION:MUSEUMWEEK E A CRISE DE COVID-19\nDesde 2014\, o MuseumWeek cresceu para incluir mais de 60.000 participantes de mais de 200 países. Tornou-se o primeiro evento cultural mundial e virtual no Facebook\, Instagram\, Twitter\, Weibo\, WeChat e VKontakte. \nNo ambiente de hoje\, é fundamental que permaneçamos unidos enquanto nos distanciamos fisicamente. Juntas\, a comunidade cultural internacional pode trazer felicidade e unidade quando mais precisamos. Como uma crise de saúde sem precedentes atinge toda a humanidade\, muitos de vocês nos perguntaram se o MuseumWeek 2020 ainda ocorrerá. Após muita deliberação\, decidimos alterar o foco das hashtags para incorporar a realidade da nossa situação global. Acreditamos que agora\, mais do que nunca\, é importante que nos sintamos conectados globalmente. \nAté o momento\, quase metade da população mundial está confinada e nossos pensamentos vão para os afetados por esta doença e seus entes queridos. Estamos pensando em todos na linha de frente que trabalham incansavelmente em instituições de emergência e saúde para tratar os doentes e naqueles que prestam outros serviços essenciais. Juntos\, sabemos que nossas sociedades podem se recuperar. \nEstendemos uma mensagem de gratidão e incentivo a todos os que estão por aí lutando com o COVID-19.\nNo início deste ano\, adotamos a ” união ” como o tema abrangente do MuseumWeek 2020. Agora\, mais do que nunca\, é muito mais relevante. Reunir-se é fundamentalmente a única maneira pela qual a humanidade pode enfrentar os desafios do século XXI. A prosperidade do nosso planeta\, nosso povo e nossa sociedade estão em jogo. A crise de saúde ligada ao coronavírus reforçou nosso desejo de promover essa mensagem universal e de ter o MuseumWeek um suporte para populações confinadas e para aqueles que lutam contra essa doença . Queremos destacar o poder da cultura\, da arte e das instituições que os apoiam e sua capacidade única de nos unir.. Eles nos permitem criar um vínculo\, dar sentido às nossas vidas e realizar nossas aspirações mais fortes. Eles nos permitem aprofundar nossa compreensão de quem somos e para onde estamos indo\, e são uma base para nossa sociedade global. \nCultura e arte são o que marca nossa humanidade e devemos valorizá-las e celebrá-las.\nAgora\, mais do que nunca\, os objetivos fundamentais do MuseumWeek são unificadores e necessários: a entrega de cultura e arte ao público em todo o mundo\, permite que você – instituições culturais ao redor do mundo – estenda suas missões em plataformas digitais. Por esse motivo\, decidimos manter as datas do MuseumWeek e convidamos você a oferecer conteúdo original com base no formato \n7 DIAS\, 7 TEMAS\, 7 HASHTAGS ( WeekasPalavras Chaves) \n  \n\n\n\nGeral\n#MuseumWeek\n#MuseumWeek\n\n\nSegunda 11\n#HeroesMW\n#HeroisMW\n\n\nTerça 12\n#CultureInQuaranDneMW\n#CulturanaQuarentenaMW\n\n\nQuarta 13\n#TogetherMW\n#JuntosMW\n\n\nQuinta 14\n#MuseumMomentsMW\n#MomentosMuseuMW\n\n\nSexta 15\n#ClimateMW\n#ClimaMW\n\n\nSábado 16\n#TechnologyMW\n#TecnologiaMW\n\n\nDomingo 17\n#DreamsMW\n#SonhosMW\n\n\n\n  \n 
URL:https://cienciaviva.org.br/evento/semana-de-museus-museum-week-2000-todos-juntos/
LOCATION:Planeta Terra\, Sistema Solar\, 3o\, planeta.
CATEGORIES:Calendário de Eventos,Semanas em Museus
ATTACH;FMTTYPE=image/png:https://cienciaviva.org.br/wp-content/uploads/2020/02/MuseumWeek_logo_master-sans-hashtag1231.png
END:VEVENT
BEGIN:VEVENT
DTSTART;VALUE=DATE:20200512
DTEND;VALUE=DATE:20200513
DTSTAMP:20260423T095723
CREATED:20200508T213152Z
LAST-MODIFIED:20200508T213429Z
UID:5875-1589241600-1589327999@cienciaviva.org.br
SUMMARY:Dia Internacional da Enfermagem
DESCRIPTION:A ORIGEM DO DIA \nEm 1953\, Dorothy Sutherland\, uma autoridade do Departamento de Saúde\, Educação e Bem-Estar dos EUA\, propôs que o Presidente Dwight D. Eisenhower proclamasse um “Dia das Enfermeiras”; ele não aprovou. \nEm janeiro de 1974\, 12 de maio foi escolhido para comemorar o dia\, pois é o aniversário do nascimento de FLORENCE NIGHTINGALE\, considerada fundadora da Enfermagem Moderna.  A cada ano\, o Conselho Internacional de Enfermagem seleciona um tema central para o evento. \nTEMA 2020 \nNeste Ano Internacional da Enfermeira e Parteira\, o Dia Internacional da Enfermagem 2020 visa reconhecer os desafios que o mundo enfrenta em relação à boa saúde e a contribuição da enfermagem para enfrentá-los. \nÉ uma chamada à ação\, destinada a \n‘Cuidar do mundo para a saúde’. \n  \nMensagem do COFEN e  COREN: \nPROTEGER A ENFERMAGEM É PROTEGER A SAÚDE DO BRASIL \nCUIDAMOS DA ENFERMAGEM PARA QUE ELA CUIDE DE TODOS. \n  \n  \nO Conselho Internacional de Enfermeiras (ICN) acredita que é de vital importância mostrar ao mundo quem são as enfermeiras e o que elas fazem – especialmente este ano: O Ano Internacional da Enfermeira e da Parteira. \nO ICN quer que a voz da enfermagem seja ouvida em todo o mundo\, para divulgar a nossa grande profissão e como ela contribui para o bem-estar do mundo. Como prestadores de cuidados\, curandeiros\, educadores\, líderes e advogados\, os enfermeiros são fundamentais na prestação de cuidados seguros\, acessíveis e acessíveis. \nÉ necessário ouvir as vozes autênticas das enfermeiras do mundo para dar ao mundo um vislumbre dessa profissão maravilhosa\, inovadora e vital. \nA enfermagem é o cerne da viabilização dos sistemas de saúde em todo o mundo para obter assistência médica de alta qualidade\, acessível e acessível. Através do peso absoluto dos números\, do raciocínio científico e da proximidade com o paciente\, estamos cuidando do mundo da saúde. \nComo o maior grupo de profissionais de saúde da linha de frente que atendem às necessidades de saúde de indivíduos e comunidades\, os enfermeiros têm histórias poderosas para contar que podem ajudar a provocar mudanças positivas. Os enfermeiros servem à humanidade e\, por suas ações\, protegem a saúde e o bem-estar de indivíduos\, comunidades e nações. \nUma força de trabalho de enfermagem apoiada e capacitada é uma solução eficaz para o problema de melhoria dos resultados de saúde. \n  \nFORÇA NO COMBATE AO COVID-19 \nEm todo o mundo\, mais de 260 profissionais de enfermagem já morreram\, de acordo com o ICN (International Council of Nurses) e 90 mil estão infectados com a doença. \n(8 de maio) Dos 98 profissionais de enfermagem mortos pela Covid-19 no Brasil\, 25 são enfermeiros\, 56 técnicos e 17 auxiliares de enfermagem. Desses\, 67% são mulheres. O observatório mostra também que o número total de confirmados com a doença já chega a quase 3 mil profissionais. \n \nCOMPARTILHE SUA HISTÓRIA \nEducar é impregnar de sentido o que fazemos a cada instante! – Paulo Freire \nOs estudos de caso devem se concentrar em um resultado relacionado a um ou vários Objetivos de Desenvolvimento Sustentável e incentivar os enfermeiros a comparar sua própria experiência com a de outras pessoas que trabalham no campo. O conteúdo deve ser conciso e breve para facilitar sua difusão. \nConte sua história aqui. \n 
URL:https://cienciaviva.org.br/evento/dia-internacional-da-enfermagem/
LOCATION:Planeta Terra\, Sistema Solar\, 3o\, planeta.
ATTACH;FMTTYPE=image/jpeg:https://cienciaviva.org.br/wp-content/uploads/2020/05/enfermagemdia.jpg
END:VEVENT
END:VCALENDAR