BEGIN:VCALENDAR
VERSION:2.0
PRODID:-//ECV - ECPv6.15.20//NONSGML v1.0//EN
CALSCALE:GREGORIAN
METHOD:PUBLISH
X-WR-CALNAME:ECV
X-ORIGINAL-URL:https://cienciaviva.org.br
X-WR-CALDESC:Eventos para ECV
REFRESH-INTERVAL;VALUE=DURATION:PT1H
X-Robots-Tag:noindex
X-PUBLISHED-TTL:PT1H
BEGIN:VTIMEZONE
TZID:America/Sao_Paulo
BEGIN:STANDARD
TZOFFSETFROM:-0200
TZOFFSETTO:-0300
TZNAME:-03
DTSTART:20190217T020000
END:STANDARD
END:VTIMEZONE
BEGIN:VEVENT
DTSTART;VALUE=DATE:20200511
DTEND;VALUE=DATE:20200518
DTSTAMP:20260423T013023
CREATED:20200208T000433Z
LAST-MODIFIED:20200513T200057Z
UID:2298-1589155200-1589759999@cienciaviva.org.br
SUMMARY:SEMANA DE MUSEUS (MUSEUM WEEK) 2020: CHEGUE JUNTO!
DESCRIPTION:MUSEUMWEEK E A CRISE DE COVID-19\nDesde 2014\, o MuseumWeek cresceu para incluir mais de 60.000 participantes de mais de 200 países. Tornou-se o primeiro evento cultural mundial e virtual no Facebook\, Instagram\, Twitter\, Weibo\, WeChat e VKontakte. \nNo ambiente de hoje\, é fundamental que permaneçamos unidos enquanto nos distanciamos fisicamente. Juntas\, a comunidade cultural internacional pode trazer felicidade e unidade quando mais precisamos. Como uma crise de saúde sem precedentes atinge toda a humanidade\, muitos de vocês nos perguntaram se o MuseumWeek 2020 ainda ocorrerá. Após muita deliberação\, decidimos alterar o foco das hashtags para incorporar a realidade da nossa situação global. Acreditamos que agora\, mais do que nunca\, é importante que nos sintamos conectados globalmente. \nAté o momento\, quase metade da população mundial está confinada e nossos pensamentos vão para os afetados por esta doença e seus entes queridos. Estamos pensando em todos na linha de frente que trabalham incansavelmente em instituições de emergência e saúde para tratar os doentes e naqueles que prestam outros serviços essenciais. Juntos\, sabemos que nossas sociedades podem se recuperar. \nEstendemos uma mensagem de gratidão e incentivo a todos os que estão por aí lutando com o COVID-19.\nNo início deste ano\, adotamos a ” união ” como o tema abrangente do MuseumWeek 2020. Agora\, mais do que nunca\, é muito mais relevante. Reunir-se é fundamentalmente a única maneira pela qual a humanidade pode enfrentar os desafios do século XXI. A prosperidade do nosso planeta\, nosso povo e nossa sociedade estão em jogo. A crise de saúde ligada ao coronavírus reforçou nosso desejo de promover essa mensagem universal e de ter o MuseumWeek um suporte para populações confinadas e para aqueles que lutam contra essa doença . Queremos destacar o poder da cultura\, da arte e das instituições que os apoiam e sua capacidade única de nos unir.. Eles nos permitem criar um vínculo\, dar sentido às nossas vidas e realizar nossas aspirações mais fortes. Eles nos permitem aprofundar nossa compreensão de quem somos e para onde estamos indo\, e são uma base para nossa sociedade global. \nCultura e arte são o que marca nossa humanidade e devemos valorizá-las e celebrá-las.\nAgora\, mais do que nunca\, os objetivos fundamentais do MuseumWeek são unificadores e necessários: a entrega de cultura e arte ao público em todo o mundo\, permite que você – instituições culturais ao redor do mundo – estenda suas missões em plataformas digitais. Por esse motivo\, decidimos manter as datas do MuseumWeek e convidamos você a oferecer conteúdo original com base no formato \n7 DIAS\, 7 TEMAS\, 7 HASHTAGS ( WeekasPalavras Chaves) \n  \n\n\n\nGeral\n#MuseumWeek\n#MuseumWeek\n\n\nSegunda 11\n#HeroesMW\n#HeroisMW\n\n\nTerça 12\n#CultureInQuaranDneMW\n#CulturanaQuarentenaMW\n\n\nQuarta 13\n#TogetherMW\n#JuntosMW\n\n\nQuinta 14\n#MuseumMomentsMW\n#MomentosMuseuMW\n\n\nSexta 15\n#ClimateMW\n#ClimaMW\n\n\nSábado 16\n#TechnologyMW\n#TecnologiaMW\n\n\nDomingo 17\n#DreamsMW\n#SonhosMW\n\n\n\n  \n 
URL:https://cienciaviva.org.br/evento/semana-de-museus-museum-week-2000-todos-juntos/
LOCATION:Planeta Terra\, Sistema Solar\, 3o\, planeta.
CATEGORIES:Calendário de Eventos,Semanas em Museus
ATTACH;FMTTYPE=image/png:https://cienciaviva.org.br/wp-content/uploads/2020/02/MuseumWeek_logo_master-sans-hashtag1231.png
END:VEVENT
BEGIN:VEVENT
DTSTART;VALUE=DATE:20200515
DTEND;VALUE=DATE:20200516
DTSTAMP:20260423T013023
CREATED:20200518T130242Z
LAST-MODIFIED:20200518T130242Z
UID:6271-1589500800-1589587199@cienciaviva.org.br
SUMMARY:Dia Nacional da(o) Assistência Social
DESCRIPTION:2020: \nTrabalhamos em vários espaços\, sempre com a população. Serviço Social: conheça e valorize essa profissão. \nsta é a chamada para as comemorações do Dia do/a Assistente Social 2020. \n \nO tema ganha destaque neste contexto da pandemia da Covid-19\, haja vista que a categoria vem sendo chamada (e até convocada) para prestar socorro à população. O serviço social é uma profissão regulamentada e em seu cotidiano de trabalho\, assistentes sociais conhecem de perto as necessidades da população e o território em que as pessoas vivem.
URL:https://cienciaviva.org.br/evento/dia-nacional-dao-assistencia-social/
CATEGORIES:Calendário de Eventos,Dias Nacionais
END:VEVENT
BEGIN:VEVENT
DTSTART;TZID=America/Sao_Paulo:20200515T150000
DTEND;TZID=America/Sao_Paulo:20200515T170000
DTSTAMP:20260423T013023
CREATED:20200509T201455Z
LAST-MODIFIED:20200512T161919Z
UID:5886-1589554800-1589562000@cienciaviva.org.br
SUMMARY:Conversa com Pesquisadores: Vacinas e Tratamentos COVID-19
DESCRIPTION:  \nO Espaço Ciência Viva organiza mais uma “Conversa Com Pesquisadores”\, mantendo suas atividades de interação com o público! Com o tema: \nAs duas corridas contra a Covid-19: Vacinas e Tratamentos. \nNo dia 15 de maio às 15 horas. \nDesta vez\, serão abordadas as possibilidades de tratamento e as pesquisas sobre a vacina para a Covid-19 e seus desafios. E para falar deste assunto convidamos dois pesquisadores que atuam na área da saúde para esclarecer e tirar algumas dúvidas\, como: \nQuais as previsões para produção de uma vacina para essa doença? \nHá algum medicamento com eficácia comprovada contra a Covid-19? Como estão sendo feitos os testes para medicamentos? \nUma pessoa com sintomas de Covid-19 deve ficar em casa ou procurar um posto médico ou hospital? Qual as limitações de um “tratamento em casa”? \nVocê tem outras dúvidas? \nInteraja e traga para nós. Deixe sua pergunta em nossos comentários ou assista a transmissão ao vivo do nosso bate papo no Canal do YouTube Espaço Ciência Viva ECV. \n\n\n\nSe inscreva no Canal Youtube Espaço Ciência Viva ECV e ative o sininho para receber a notificação! \nClique nesse link para a transmissão ao vivo no Youtube. \nPARA SABER MAIS \nVeja no site do ECV a matéria e indicações de leitura sobre o tema\, em especial a Série : CIÊNCIA\, SAÚDE E CORONA VÍRUS \n\n\n\n\nLivro infantil: coronavírus.\nArte e Ciência: pintando e conhecendo coronavírus.\nLivro Vírus: Simulacro da Vida.\nFiocruz: notícias o Covid-19.\nMedo\, Verdades e Mentiras sobre coronavírus.\nManifesto da SBPC – COVID-19.\nCiência Brasileira responde à crise de coronavírus.\nNosso Mundo em Dados: COVID-19.\nCorrida pelas Vacinas seguras contra o SARSCoV-2.
URL:https://cienciaviva.org.br/evento/conversa-com-pesquisadores-vacinas-e-tratamentos-covid-19/
LOCATION:Ciência Ao Vivo em Sua Casa!
CATEGORIES:Calendário de Eventos,Vida e Saúde
ATTACH;FMTTYPE=image/jpeg:https://cienciaviva.org.br/wp-content/uploads/2020/05/IMG-20200508-WA0057.jpg
ORGANIZER;CN="Espa%C3%A7o Ci%C3%AAncia Viva":MAILTO:museu@cienciaviva.org.br
END:VEVENT
END:VCALENDAR