BEGIN:VCALENDAR
VERSION:2.0
PRODID:-//ECV - ECPv6.15.20//NONSGML v1.0//EN
CALSCALE:GREGORIAN
METHOD:PUBLISH
X-ORIGINAL-URL:https://cienciaviva.org.br
X-WR-CALDESC:Eventos para ECV
REFRESH-INTERVAL;VALUE=DURATION:PT1H
X-Robots-Tag:noindex
X-PUBLISHED-TTL:PT1H
BEGIN:VTIMEZONE
TZID:America/Sao_Paulo
BEGIN:STANDARD
TZOFFSETFROM:-0200
TZOFFSETTO:-0300
TZNAME:-03
DTSTART:20190217T020000
END:STANDARD
END:VTIMEZONE
BEGIN:VEVENT
DTSTART;VALUE=DATE:20200520
DTEND;VALUE=DATE:20200521
DTSTAMP:20260423T140519
CREATED:20200522T132055Z
LAST-MODIFIED:20200522T132057Z
UID:6473-1589932800-1590019199@cienciaviva.org.br
SUMMARY:Dia Nacional do Pedagogo
DESCRIPTION:Em 2010\, o Decreto Lei nº 7.264 instituiu no país o Dia do Pedagogo\, comemorado em 20 de maio. \nA data tem como objetivo promover a discussão do papel da família e da escola no desenvolvimento das crianças\, delimitando suas responsabilidades. \nSer Pedagogo não é apenas ser Professor\, Mestre\, Tia\, Coordenadora\, Supervisora\, Orientadora\, Dona de escola. \nÉ mais do que isso\, é ser responsável e saber lidar com o diferente\, sem preconceitos\, sem distinção de cor\, raça\, sexo ou religião. Nas mãos desse profissional concentra-se o futuro de muitos médicos\, engenheiros\, advogados ou qualquer outra profissão. \nO profissional de pedagogia é capaz de atuar tanto em espaços escolares como em outros diversos.
URL:https://cienciaviva.org.br/evento/dia-nacional-do-pedagogo/
LOCATION:Brasil\, Brasil
CATEGORIES:Dias Nacionais
ATTACH;FMTTYPE=image/jpeg:https://cienciaviva.org.br/wp-content/uploads/2020/05/maxresdefault-1.jpg
END:VEVENT
END:VCALENDAR