BEGIN:VCALENDAR
VERSION:2.0
PRODID:-//ECV - ECPv6.15.20//NONSGML v1.0//EN
CALSCALE:GREGORIAN
METHOD:PUBLISH
X-ORIGINAL-URL:https://cienciaviva.org.br
X-WR-CALDESC:Eventos para ECV
REFRESH-INTERVAL;VALUE=DURATION:PT1H
X-Robots-Tag:noindex
X-PUBLISHED-TTL:PT1H
BEGIN:VTIMEZONE
TZID:America/Sao_Paulo
BEGIN:STANDARD
TZOFFSETFROM:-0200
TZOFFSETTO:-0300
TZNAME:-03
DTSTART:20190217T020000
END:STANDARD
END:VTIMEZONE
BEGIN:VEVENT
DTSTART;TZID=America/Sao_Paulo:20200530T140000
DTEND;TZID=America/Sao_Paulo:20200530T180000
DTSTAMP:20260423T140600
CREATED:20200202T175340Z
LAST-MODIFIED:20200509T124204Z
UID:2237-1590847200-1590861600@cienciaviva.org.br
SUMMARY:ADIADO: Sábado da Ciência: Plantas\, por que te quero!
DESCRIPTION:Em comemoração ao Ano Internacional da Saúde das Plantas (2020)\, vamos celebrar\, comemorar e encantar com o mundo das plantas. \nEm breve a programação especial que estamos preparando…
URL:https://cienciaviva.org.br/evento/sabado-da-ciencia-plantas-por-que-te-quero/
LOCATION:Espaço Ciência Viva\, Av. Heitor Beltrão\, 321 (esquina com R. Pareto)\, Rio de Janeiro\, Rio de Janeiro\, 20550-000\, Brasil
CATEGORIES:Calendário de Eventos,Sábados de Ciência
ATTACH;FMTTYPE=image/jpeg:https://cienciaviva.org.br/wp-content/uploads/2020/02/cartazsemestra.jpg
ORGANIZER;CN="Espa%C3%A7o Ci%C3%AAncia Viva":MAILTO:museu@cienciaviva.org.br
END:VEVENT
END:VCALENDAR