BEGIN:VCALENDAR
VERSION:2.0
PRODID:-//ECV - ECPv6.15.20//NONSGML v1.0//EN
CALSCALE:GREGORIAN
METHOD:PUBLISH
X-WR-CALNAME:ECV
X-ORIGINAL-URL:https://cienciaviva.org.br
X-WR-CALDESC:Eventos para ECV
REFRESH-INTERVAL;VALUE=DURATION:PT1H
X-Robots-Tag:noindex
X-PUBLISHED-TTL:PT1H
BEGIN:VTIMEZONE
TZID:America/Sao_Paulo
BEGIN:STANDARD
TZOFFSETFROM:-0300
TZOFFSETTO:-0300
TZNAME:-03
DTSTART:20210101T000000
END:STANDARD
END:VTIMEZONE
BEGIN:VEVENT
DTSTART;VALUE=DATE:20220101
DTEND;VALUE=DATE:20230101
DTSTAMP:20260422T080916
CREATED:20220404T125853Z
LAST-MODIFIED:20220404T130146Z
UID:18509-1640995200-1672531199@cienciaviva.org.br
SUMMARY:Centenário Semana Moderna 1922-2022
DESCRIPTION:A Semana de Arte Moderna\, também chamada de Semana de 22\, ocorreu em São Paulo\, entre os dias 13 e 17 de fevereiro de 1922\, no Teatro Municipal da cidade. \nO governador do estado de São Paulo da época\, Washington Luís\, apoiou o movimento\, especialmente por meio de René Thiollier\,  que solicitou patrocínio para trazer artistas do Rio de Janeiro: Plínio Salgado e Menotti Del Picchia. Cada dia da semana trabalhou um aspecto cultural: \n\npintura\,\nescultura\,\npoesia\,\nliteratura\ne música.\n\n  \nO evento marcou o início do Movimento Modernista no Brasil e tornou-se referência cultural do século XX. \nA Semana de Arte Moderna representou \n\numa verdadeira renovação de linguagem\,\na busca de experimentação\,\na liberdade criadora da ruptura com o passado e até corporal.\n\nO evento marcou época ao apresentar novas ideias e conceitos artísticos\, como \n\na poesia através da declamação\, que antes era só escrita;\na música por meio de concertos\, que antes só havia cantores sem acompanhamento de  orquestras sinfônicas\nas artes plásticas exibida em telas\, esculturas e maquetes de arquitetura\, com desenhos arrojados e modernos.\n\n  \nParticiparam da Semana  Mário de Andrade\, Oswald de Andrade\, Víctor Brecheret\, Plínio Salgado\, Anita Malfatti\, Menotti Del Picchia\, Guilherme de Almeida\, Sérgio Milliet\, Heitor Villa-Lobos\,Tácito de Almeida\, Di Cavalcanti\, Agenor Fernandes Barbosa entre outros\, e como um dos organizadores Rubens Borba de Moraes que\, entretanto\, por estar doente\, dela não participou. \nNa ocasião da Semana de Arte Moderna\, Tarsila do Amaral\, considerada um dos grandes pilares do modernismo brasileiro\, se encontrava em Paris e\, por esse motivo\, não participou do evento. Alguns dos idealizadores do evento eram membros de tradicionais famílias paulistas. \nO Centário nos convida a revisitar as linguagens\, tecnologias e formas de expressão do século XXI!
URL:https://cienciaviva.org.br/evento/bicentenario-semana-moderna-1822-2022/
LOCATION:Brasil\, Brasil
CATEGORIES:Calendário de Eventos
END:VEVENT
BEGIN:VEVENT
DTSTART;VALUE=DATE:20220101
DTEND;VALUE=DATE:20230101
DTSTAMP:20260422T080916
CREATED:20220404T130829Z
LAST-MODIFIED:20220404T130905Z
UID:18512-1640995200-1672531199@cienciaviva.org.br
SUMMARY:Bicentenário da Independência do Brasil\, 1822-2022
DESCRIPTION:ano de 2022 marca o Bicentenário da Independência do Brasil\, que será comemorado em 7 de setembro. Para celebrar\, o Governo Federal realiza uma série de atividades para rememorar a trajetória do país ao longo dos 200 anos. Com o mote Liberdade\, Independência e Soberania\, há ações como o lançamento de publicações\, incentivo à produção de arte sobre a temática\, reforma de museu e mobilização da diplomacia brasileira para celebrar a data também no exterior. \nA Secretaria Especial de Cultura\, do Ministério do Turismo\, é a coordenadora das comemorações\, em parceria com a Secretaria Especial de Comunicação Social\, vinculada ao Ministério das Comunicações\, e a Subchefia de Articulação e Monitoramento da Casa Civil da Presidência da República. \nAo longo de 2022\, estão previstos lançamentos de diversas publicações pela Biblioteca Nacional\, pela Funarte\, pelo Ministério da Defesa e pela Fundação Alexandre de Gusmão\, ligada ao Ministério das Relações Exteriores. Outra iniciativa prevista é a programação de museus coordenada pelo Instituto Brasileiro de Museus (Ibram)\, além de vasta programação de seminários\, webinários e exposições por diversos órgãos. \nUma das iniciativas que vai marcar a celebração do Bicentenário da Independência será a reinauguração do Museu do Ipiranga\, que passa por obras de restauração\, prevista para setembro de 2022. A reinauguração foi anunciada ainda no segundo semestre do ano passado pela Secretaria de Cultura. O museu abriga um acervo de obras e mobiliários que tem relação com a Independência do Brasil. É lá que está a pintura Independência ou Morte\, do artista brasileiro Pedro Américo\, considerada a representação mais difundida do momento da independência do país. A restauração é fomentada pelo Governo Federal com a participação da iniciativa privada. \nAinda foi aprovada pela Secretaria Especial da Cultura uma linha de investimentos para produções audiovisuais que\, por meio de edital\, vai selecionar projetos brasileiros independentes\, feitos em episódios ou não. As produções poderão ser documentais\, ficcionais ou animações de curta e longa metragem com o tema da independência brasileira. O valor total investido será de R$ 30 milhões\, para contemplar cerca de 20 projetos. Os projetos serão selecionados por uma comissão mista com servidores e profissionais do setor audiovisual. \nNeste ano\, as atividades em torno das comemorações do Bicentenário da Independência foram intensificadas e uma comissão interministerial tem realizado reuniões temáticas semanalmente\, de acordo com a Secretaria Especial de Cultura. Em fevereiro deste ano\, a Secretaria e a Subchefia de Articulação e Monitoramento da Casa Civil promoveram uma série de reuniões relativas ao Bicentenário da Independência do Brasil que buscaram envolver todos os Ministérios nas ações alusivas à data. \nNos encontros\, representantes de instituições públicas também trataram de ações de proteção e promoção do patrimônio histórico por meio da digitalização\, disponibilização virtual de acervos e medidas de combate ao tráfico de bens culturais. \nA pauta das comemorações do Bicentenário se expandiu para os entes subnacionais e outros poderes. Houve reunião envolvendo todas as unidades da federação\, bem com o Senado Federal e a Câmara dos Deputados\, de acordo com a Casa Civil. \nNo âmbito federal\, o Decreto 9.853/19\, alterado pelo Decreto 10.908/21\, dispõe sobre a Comissão Interministerial Brasil 200 Anos\, que reúne\, sob a coordenação da Secretaria Especial de Cultura\, os principais órgãos que organizam a programação alusiva ao Bicentenário. \nFonte: https://www.gov.br/pt-br/noticias/cultura-artes-historia-e-esportes/2022/03/governo-federal-tem-agenda-de-atividades-para-comemorar-o-bicentenario-da-independencia-do-brasil
URL:https://cienciaviva.org.br/evento/bicentenario-da-independencia-do-brasil/
LOCATION:Brasil\, Brasil
CATEGORIES:Calendário de Eventos,Democracia,Educação
END:VEVENT
BEGIN:VEVENT
DTSTART;VALUE=DATE:20220101
DTEND;VALUE=DATE:20230101
DTSTAMP:20260422T080916
CREATED:20220404T131617Z
LAST-MODIFIED:20220404T132008Z
UID:18515-1640995200-1672531199@cienciaviva.org.br
SUMMARY:50 Anos da Carta de Santiago\, por um Museu Latino-Americano Integral
DESCRIPTION:I. Princípios de Base do Museu Integral\nOs membros da Mesa-Redonda sobre o papel dos museus na América Latina de hoje\, analisando as apresentações dos animadores sobre os problemas do meio rural\, do meio urbano\, do desenvolvimento técnico-científico\, e da educação permanente\, tomaram consciência da importância desses problemas para o futuro da sociedade na América Latina. \nPareceu-lhes necessário\, para a solução destes problemas\, que a comunidade entenda seus aspectos técnicos\, sociais\, econômicos e políticos. Eles consideraram que a tomada de consciência pelos museus\, da situação atual\, e das diferentes soluções que se podem vislumbrar para melhorá-la\, é uma condição essencial para sua integração à vida da sociedade. Desta maneira\, consideraram que os museus podem e devem desempenhar um papel decisivo na educação da comunidade. \nSantiago\, 30 de Maio de 1972. \nPara conhecer o documento integral da Carta de Santiago: Por um Museu Integral\, clique aqui.
URL:https://cienciaviva.org.br/evento/carta-de-santiago-um-museu-integral/
LOCATION:Américas
CATEGORIES:Calendário de Eventos,Democracia,Educação,Museologia
END:VEVENT
BEGIN:VEVENT
DTSTART;VALUE=DATE:20220101
DTEND;VALUE=DATE:20230101
DTSTAMP:20260422T080916
CREATED:20220410T172814Z
LAST-MODIFIED:20220410T173708Z
UID:18584-1640995200-1672531199@cienciaviva.org.br
SUMMARY:500 Anos da Circum-navegação do Planeta Terra
DESCRIPTION:Há 503 anos\, no dia 20 de setembro de 1519\, sob o comando do navegador português Fernão de Magalhães\, partiu de Sanlúncar de Barrameda\, na Espanha\, uma ousada expedição que ficou marcada como a primeira viagem de circum-navegação de todo o Planeta Terra. \nSaiba mais sobre Fernão de Magalhães em https://magalhaes500.pt/um-explorador-portugues/ \nNo dia 13 de dezembro de 1519 a expedição chegou à Baía de Guanabara\, no Rio de Janeiro. \nE\, finalmente\, em 6 de setembro de 1522 (após 1.082 dias) completou-se a viagem tendo por comandante Juan Sebastían Elcano. E que comemoramos em 2022\, seus  500 anos! \nConheça dia-a-dia\, os locais onde a missão de Fernão de Magalhães esteve em https://magalhaes500.pt/circumnavigation/circum-navegacao/ \nEm uma época de grandes desafios e dificuldades à navegação oceânica\, tal empreitada deu-se com imensos sacrifícios. \nTendo partido com cinco navios e cerca de 260 homens\, apenas a Nau Vitória com dezoito homens a bordo conseguiu completar a viagem de volta ao mundo\, tendo perecido na jornada o navegador Fernão de Magalhães. \nApesar disso\, a viagem de Magalhães e Elcano ficou marcada como um dos episódios mais notáveis da história marítima\, tendo sido de extrema relevância para a continuidade do desenvolvimento das Grandes Navegações. \nA viagem confirmou as teorias sobre a esfericidade da Terra e foi um importante marco do processo que atualmente denominamos de globalização. \nSaiba mais sobre Magalhães e o planeta em https://magalhaes500.pt/magalhaes-e-o-planeta/ \nA primeira viagem de circum-navegação realizada pela Marinha do Brasil durou 430 dias e percorreu 35.044 milhas náuticas. Com o navio de Corveta Vital de Oliveira\, no períodode  19/11/1879 a 21/01/1881 (430 dias). \nAlém da jornada de volta ao mundo\, a Corveta Vital de Oliveira teve a missão de transportar uma missão diplomática especial à China\, a qual tinha por chefes o Chefe de Divisão Arthur Silveira da Motta (futuro Barão de Jaceguai) e o Dr. Eduardo Callado. \nSaiba mais sobre as viagens de circum-navegação brasileiras no site da Marinha do Brasil\, acesse aqui.
URL:https://cienciaviva.org.br/evento/500-anos-da-circum-navegacao-do-planeta-terra/
LOCATION:Planeta Terra\, Sistema Solar\, 3o\, planeta.
CATEGORIES:Calendário de Eventos,Tecnologia,Universo
END:VEVENT
BEGIN:VEVENT
DTSTART;VALUE=DATE:20220101
DTEND;VALUE=DATE:20230101
DTSTAMP:20260422T080916
CREATED:20220419T185831Z
LAST-MODIFIED:20220419T185831Z
UID:18601-1640995200-1672531199@cienciaviva.org.br
SUMMARY:102 Anos de ROBÔS
DESCRIPTION:2020 celebrou o centenário da peça teatral R. U. R.  uma  ficção científica escrita pelo checo Karel Capek. \nR. U. R. significa Rossumovi Univerzální Roboti (Robôs Universais de Rossum). A peça estreou no dia 25 de janeiro de 1921\, e introduziu a palavra “robô” em variados idiomas\, mentes e na ficção científica como um todo. \nPor volta de 1923\, tinha sido traduzida para trinta línguas. \nA peça começa em uma fábrica que faz pessoas artificiais\, chamadas de roboti (robôs)\, a partir de matéria orgânica sintética.  \nElas não são exatamente robôs na definição atual do termo: elas são criaturas de carne e osso que estão mais próximas do conceito moderno de clones do que de máquinas. Por isso\, elas podem ser facilmente confundidas com seres humanos e pensar por si mesmas. \nElas parecem felizes em trabalhar para os seres humanos inicialmente\, mas uma rebelião de robôs leva à extinção da raça humana. Capek\, mais tarde\, teve uma abordagem diferente para o mesmo tema em Válka s mloky\, onde os não-humanos\, tornaram-se uma classe de servos  na sociedade humana. \nPodemos identificar uma conexão muito forte com a narrativa do filme Blade Runner\, o Caçador de Androides e Blade Runner 2049\, sua recente sequência. \nR. U. R. é sombria\, mas não sem esperança\, e foi uma peça teatral bem sucedida em sua época\, na Europa e América do Norte. \nPara conhecer como o conceito de Inteligência Artificial aparece na literatura\, cinema e teatro\, veja as matérias em nosso site \nhttp://cienciaviva.org.br/index.php/2020/03/25/inteligencia-artificial-no-cinema-teatro-e-literatura/ \nE como se desenvolveu no mundo real\, em: \nhttp://cienciaviva.org.br/index.php/2020/03/26/inteligencia-artificial-no-mundo-real/ \n 
URL:https://cienciaviva.org.br/evento/102-anos-de-robos/
LOCATION:Planeta Terra\, Sistema Solar\, 3o\, planeta.
CATEGORIES:Tecnologia,Trabalho
END:VEVENT
BEGIN:VEVENT
DTSTART;VALUE=DATE:20220916
DTEND;VALUE=DATE:20220917
DTSTAMP:20260422T080916
CREATED:20220907T173107Z
LAST-MODIFIED:20220907T173107Z
UID:19808-1663286400-1663372799@cienciaviva.org.br
SUMMARY:Dia Internacional para Preservação da Camada de Ozônio
DESCRIPTION:Dia Internacional para a Preservação da Camada de Ozônio (A / RES / 49/114) \nA camada de ozônio é uma frágil faixa de gás que protege a Terra dos efeitos nocivos dos raios solares\, ajudando assim a preservar a vida no planeta. \nNo entanto\, o uso por anos de certos produtos químicos danificou-o\, pondo em risco a nossa própria existência e a dos demais seres vivos do planeta. Um esforço internacional conjunto tem permitido a eliminação e redução do uso de substâncias que destroem a camada de ozônio\, ajudando não só a protegê-la para as gerações atuais e futuras\, mas também a melhorar os resultados de iniciativas voltadas ao enfrentamento das mudanças climáticas. Esses esforços também protegeram a saúde humana e os ecossistemas\, reduzindo a radiação ultravioleta do sol que atinge a Terra. \nCooperação global para proteger a vida na Terra\nA camada de ozônio é uma frágil faixa de gás que protege a Terra dos efeitos nocivos dos raios solares\, ajudando assim a preservar a vida no planeta. \nEste ano marca o 35º aniversário da adoção do Protocolo de Montreal\, um dos acordos ambientais mais bem-sucedidos\, que sancionou uma das maiores ameaças que a humanidade já enfrentou: a destruição da camada de ozônio. \nO uso de certos produtos químicos durante anos danificou a camada\, colocando em risco a existência dos seres humanos e dos demais seres vivos do planeta. Um esforço internacional conjunto permitiu a eliminação e redução do uso de substâncias que destroem a camada de ozônio\, ajudando não apenas a protegê-la para as gerações atuais e futuras\, mas também a melhorar os resultados das iniciativas voltadas ao enfrentamento das mudanças climáticas. Esses esforços também protegeram a saúde humana e os ecossistemas\, reduzindo a radiação ultravioleta do sol que atinge a Terra. \nCom este acordo\, ficou demonstrado que o multilateralismo e a cooperação global efetiva funcionam. Agora\, a camada de ozônio está se recuperando lentamente\, permitindo que continue protegendo a humanidade da radiação ultravioleta do sol. \nFundo\nDescobriu-se que vários produtos químicos comumente usados ??são extremamente prejudiciais à camada de ozônio. Halocarbonos são compostos químicos nos quais um ou mais átomos de carbono estão ligados a um ou mais átomos de halogênio (flúor\, cloro\, bromo ou iodo). Halocarbonos contendo bromo geralmente têm um potencial de destruição de ozônio (ODP) muito maior do que aqueles contendo cloro. Os produtos químicos sintéticos que forneceram a maior parte do cloro e bromo para a destruição do ozônio são brometo de metila\, clorofórmio de metila\, tetracloreto de carbono e famílias de produtos químicos conhecidos como halons\, clorofluorcarbonos (CFCs) e hidroclorofluorcarbonos (HCFCs). \nConvenção de Viena sobre a Proteção da Camada de Ozônio\nA confirmação científica da destruição da camada de ozônio levou a comunidade internacional a estabelecer um mecanismo cooperativo para tomar medidas para proteger a camada de ozônio. Isso foi formalizado na  Convenção de Viena para a Proteção da Camada de Ozônio \, que foi aprovada e assinada por 28 países\, em 22 de março de 1985. Em setembro de 1987\, isso levou à elaboração do Protocolo de Montreal sobre substâncias que destroem a camada de ozônio . \nProtocolo de Montreal\nO objetivo primordial do Protocolo de Montreal é a proteção da camada de ozônio\, tomando medidas para controlar a produção e consumo global total de substâncias que a destroem\, com o objetivo final de eliminá-las\, com base no progresso do conhecimento\, da informação científica e tecnológica. \nO Protocolo de Montreal está estruturado em vários grupos de substâncias destruidoras da camada de ozônio. Os grupos químicos são classificados de acordo com a família química e estão listados nos anexos do texto do Protocolo de Montreal. Requer o controle de quase 100 substâncias químicas em várias categorias. Para cada grupo ou anexo de substâncias químicas\, o Tratado estabelece um cronograma para a eliminação progressiva da produção e consumo dessas substâncias\, com o objetivo de eventualmente eliminá-las completamente. \nO cronograma estabelecido pelo Protocolo se aplica ao consumo de substâncias destruidoras da camada de ozônio. O consumo é definido como as quantidades produzidas\, mais as importações\, menos as quantidades exportadas em um determinado ano. Há também uma dedução para destruição verificada. \nAs reduções percentuais referem-se ao ano de referência designado para a substância. O Protocolo não proíbe o uso de substâncias controladas ou recicladas existentes além das datas de eliminação. \nExistem algumas exceções para usos essenciais onde não são encontrados substitutos aceitáveis\, por exemplo\, em inaladores de dose calibrada (MDIs) comumente usados ??para tratar asma e outros problemas respiratórios ou sistemas de supressão de incêndio de halon usados ??em submarinos e aeronaves. \nEm 1994\, a Assembleia Geral das Nações Unidas proclamou 16 de setembro o Dia Internacional para a Preservação da Camada de Ozônio\, comemorando a data da assinatura\, em 1987\, do Protocolo de Montreal sobre substâncias que danificam a camada de ozônio ( resolução 49/114 ). \n\nImplementação do Protocolo de Montreal\nA implementação do Protocolo de Montreal progrediu bem nos países desenvolvidos e em desenvolvimento. Todos os cronogramas de eliminação foram respeitados na maioria dos casos\, alguns até antes do esperado. Em vista do progresso constante feito sob o Protocolo\, já em 2003\, o ex-Secretário-Geral Kofi Annan declarou: “Talvez o acordo internacional de maior sucesso até hoje tenha sido o Protocolo de Montreal “. Suas opiniões são amplamente compartilhadas na comunidade internacional. \nA atenção foi inicialmente focada em produtos químicos com o maior potencial de destruição da camada de ozônio\, incluindo CFCs e halons. O cronograma de eliminação dos HCFCs foi mais relaxado\, devido ao seu menor potencial de destruição da camada de ozônio e porque eles também foram usados ??como substitutos de transição para os CFCs. \nO cronograma de eliminação de HCFC foi criado em 1992 para países desenvolvidos e em desenvolvimento\, este último com congelamento em 2015\, eliminação completa em 2030 nos países desenvolvidos e 2040 nos países em desenvolvimento. \nEm 2007\, as Partes do Protocolo decidiram acelerar o cronograma de eliminação de HCFC para países desenvolvidos e em desenvolvimento. \nratificação universal\nEm 16 de setembro de 2009\, a Convenção de Viena e o Protocolo de Montreal se tornaram os primeiros tratados na história das Nações Unidas a alcançar a ratificação universal. \nEmenda Kigali\nAs Partes do Protocolo de Montreal sobre Substâncias que Destroem a Camada de Ozônio chegaram a um acordo em sua 28ª Reunião das Partes em 15 de outubro de 2016 em Kigali\, Ruanda\, para eliminar os hidrofluorcarbonos (HFCs).
URL:https://cienciaviva.org.br/evento/dia-internacional-para-preservacao-da-camada-de-ozonio/
LOCATION:Planeta Terra\, Sistema Solar\, 3o\, planeta.
CATEGORIES:Dia Internacional,Vida e Saúde
END:VEVENT
END:VCALENDAR