BEGIN:VCALENDAR
VERSION:2.0
PRODID:-//ECV - ECPv6.15.20//NONSGML v1.0//EN
CALSCALE:GREGORIAN
METHOD:PUBLISH
X-WR-CALNAME:ECV
X-ORIGINAL-URL:https://cienciaviva.org.br
X-WR-CALDESC:Eventos para ECV
REFRESH-INTERVAL;VALUE=DURATION:PT1H
X-Robots-Tag:noindex
X-PUBLISHED-TTL:PT1H
BEGIN:VTIMEZONE
TZID:America/Sao_Paulo
BEGIN:STANDARD
TZOFFSETFROM:-0300
TZOFFSETTO:-0300
TZNAME:-03
DTSTART:20230101T000000
END:STANDARD
END:VTIMEZONE
BEGIN:VEVENT
DTSTART;VALUE=DATE:20240101
DTEND;VALUE=DATE:20240102
DTSTAMP:20260425T112945
CREATED:20231220T220009Z
LAST-MODIFIED:20231220T220047Z
UID:22090-1704067200-1704153599@cienciaviva.org.br
SUMMARY:Dia Mundial da Paz
DESCRIPTION:Dia Mundial da Paz\nEm 8 de dezembro de 1967\, o Papa Paulo VI escreveu uma mensagem propondo a criação do Dia Mundial da Paz\, a ser festejado no dia 1 de janeiro de cada ano. \nO papa não queria que a comemoração se restringisse apenas aos católicos – para ele\, a verdadeira celebração da paz só estaria completa se envolvesse todos os seres humanos. \n“A proposta de dedicar à paz o primeiro dia do novo ano (…) seria para desejar que ela encontrasse a adesão de todos os verdadeiros amigos da paz”\, dizia\, em sua mensagem. \nNo texto\, expressava seu desejo de que esta iniciativa ganhasse adesão ao redor do mundo com \n“caráter sincero e forte de uma humanidade consciente e liberta dos seus tristes e fatais conflitos bélicos\, que quer dar à história do mundo um devir mais feliz\, ordenado e civil”. \nPortanto\, O Dia da Paz Mundial é um dia a ser celebrado pelos “verdadeiros amigos da Paz”\, independente de credo\, etnia\, posição social ou econômica. \nO Dia Internacional da Paz\, criado pela Organização das Nações Unidas (ONU) em 1987\, é comemorado em 21 de setembro. \nDia Nacional da Fraternidade Universal ou Dia da Confraternização Universal\nÉ um feriado nacional no Brasil\, comemorado no dia primeiro de janeiro.\nA comemoração foi criada por lei em 1935\, pelo Presidente Getúlio Vargas.\nTambém é comemorado sob este nome em Portugal\, onde foi instituído pelos vitoriosos republicanos após a Implantação da República Portuguesa\, em 5 de outubro de 1910.
URL:https://cienciaviva.org.br/evento/dia-mundial-da-paz-2/
LOCATION:Planeta Terra\, Sistema Solar\, 3o\, planeta.
CATEGORIES:Dia Mundial
END:VEVENT
BEGIN:VEVENT
DTSTART;TZID=America/Sao_Paulo:20240101T000000
DTEND;TZID=America/Sao_Paulo:20240131T233000
DTSTAMP:20260425T112945
CREATED:20240104T143555Z
LAST-MODIFIED:20240104T143555Z
UID:22443-1704067200-1706743800@cienciaviva.org.br
SUMMARY:Janeiro Roxo - Combate à Hanseníase
DESCRIPTION:Desde 2016 o Ministério da Saúde oficializou o mês de janeiro e a cor roxa para campanhas educativas em todo o país. \nEsse evento é importante para que a população tenha mais informações sobre a doença e para que ocorra uma intensificação de busca ativa de doentes\, com o tratamento oportuno e interrupção da cadeia de transmissão da mesma. Apesar dos esforços dispensados para o seu combate\, a hanseníase ainda se mantém endêmica e constitui um problema de saúde pública no Brasil. \nDurante a campanha serão desenvolvidas atividades de busca ativa de casos suspeitos em todas as regiões do município\, ações educativas junto às comunidades locais e intensificação dos exames de contatos dos pacientes. \nAs atividades contam com material de divulgação como banners\, cartazes\, além de folders educativos que são distribuídos tanto para os profissionais de saúde quanto para a população\, em praças\, parques públicos\, terminais de transporte urbano\, metrô\, feiras\, parques\, shopping\, templos religiosos\, escolas e outros. \nQuanto mais precoce o diagnóstico\, menor o risco de transmissão da doença e menores as complicações e sequelas provocadas pelo comprometimento dos nervos periféricos que caracterizam essa patologia. \nA Hanseníase é uma doença infecciosa\, causada por uma bactéria. É transmissível e atinge\, principalmente\, a pele e os nervos periféricos como mãos e pés. Quanto mais cedo for diagnosticada\, mais eficaz será o tratamento. A transmissão ocorre pelas vias respiratórias (fala\, espirro ou tosse)\, durante o convívio prolongado com o doente sem tratamento. É longo o espaço de tempo entre o contágio e o aparecimento dos sinais da doença. O paciente deixa de transmitir a doença para seus familiares ao iniciar o tratamento medicamentoso. \nO tratamento da hanseníase é realizado por meio de medicamentos que são dispensados gratuitamente nas UR. O paciente deve ir uma vez por mês à unidade. A hanseníase tem cura. \nA pessoa que manteve ou mantém contato frequente com portador da hanseníase\, deve procurar uma UBS para uma consulta médica e receber orientações específicas. \nSinais da doença:\n• Uma ou mais manchas de cor variada: esbranquiçada\, avermelhada ou acastanhada.\n• Mancha com diminuição e/ou perda de sensibilidade\, pele seca e queda de pelos.\n• Dor\, sensação de choque\, fisgadas e agulhadas ao longo dos nervos dos braços e pernas.\n• Nódulos (caroços) no corpo\, avermelhados e dolorosos.\n• Diminuição da força muscular das mãos\, pés ou face.
URL:https://cienciaviva.org.br/evento/janeiro-roxo-combate-a-hanseniase/
LOCATION:Brasil\, Brasil
CATEGORIES:Calendário de Eventos,Mês Nacional
END:VEVENT
BEGIN:VEVENT
DTSTART;TZID=America/Sao_Paulo:20240101T080000
DTEND;TZID=America/Sao_Paulo:20240131T170000
DTSTAMP:20260425T112945
CREATED:20240104T145356Z
LAST-MODIFIED:20240104T145356Z
UID:22446-1704096000-1706720400@cienciaviva.org.br
SUMMARY:Janeiro Branco - Promoção da Saúde Mental
DESCRIPTION:Sobre a Campanha Janeiro Branco\nA Campanha Janeiro Branco é um movimento nacional de conscientização sobre a importância da Saúde Mental\, que foi criado em 2014 pelo psicólogo mineiro Leonardo Abrahão. \nA campanha é realizada anualmente durante o mês de janeiro e\, ano após ano\, além de pleitear políticas públicas para a Saúde Mental\, promove palestras\, palestras-relâmpago\, oficinas\, cursos\, workshops\, entrevistas para a mídia\, lives\, caminhadas\, panfletagens\, rodas de conversa e abordagem de pessoas em todos os lugares nos quais as pessoas se encontram: ruas\, praças\, igrejas\, empresas\, residências\, academias\, shoppings\, hospitais\, prefeituras etc. \nJaneiro foi escolhido por simbolizar os inícios e reinícios da vida e\, a cor branca\, por simbolizar folhas em branco sobre as quais qualquer pessoa pode escrever – ou reescrever – desejos\, sonhos e planos para a sua vida e as relações sociais das quais participa. \nO objetivo do Janeiro Branco\, agora respaldado pela força de uma Lei Federal\, é promover a conscientização da população sobre a importância da prevenção e do cuidado com a Saúde Mental\, a fim de prevenir o adoecimento emocional\, psicológico e social\, reduzir o estigma e a discriminação relacionados às doenças mentais e incentivar a busca por medidas preventivas\, ou tratamento adequado\, quando necessário. \nA criação da Campanha Janeiro Branco é uma iniciativa do psicólogo mineiro Leonardo Abrahão\, que lançou a primeira edição em 2014\, ao lado de outros colegas de profissão\, na cidade de Uberlândia(MG). Desde então\, a campanha tem ganhado cada vez mais adesão dentro e fora do país\, contando com o apoio de milhares de profissionais da saúde\, instituições públicas\, poderes públicos\, empresas privadas\, organizações não governamentais e de toda a sociedade. \nDe acordo com Abrahão\, \n“a Campanha Janeiro Branco é uma importante ferramenta para a promoção da saúde mental da população brasileira\, uma vez que essa é uma questão fundamental para o bem-estar e a qualidade de vida das pessoas. Nesse sentido\, o Janeiro Branco vem para reforçar a importância da prevenção e do cuidado com o bem-estar emocional\, fortalecer a luta social pela construção de políticas públicas sobre Saúde Mental e promover a construção de uma cultura da Saúde Mental na humanidade”. \n  \nA Lei Federal\nA Lei Nº 14.556\, de 25 de abril de 2023\, instituiu a campanha Janeiro Branco\, dedicada à promoção da saúde mental\, com o seguinte texto: \nO Vice-Presidente da República\, no exercício do cargo de Presidente da República \nFaço saber que o Congresso Nacional decreta e eu sanciono a seguinte Lei: \nArt. 1º Fica instituída a campanha Janeiro Branco\, dedicada à promoção da saúde mental. \nArt. 2º Nos meses de janeiro serão realizadas campanhas nacionais de conscientização da população sobre a saúde mental\, que abordarão a promoção de hábitos e ambientes saudáveis e a prevenção de doenças psiquiátricas\, com enfoque especial à prevenção da dependência química e do suicídio. \nArt. 3º Esta Lei entra em vigor na data de sua publicação. \nBrasília\, 25 de abril de 2023; 202º da Independência e 135º da República. \nGERALDO JOSÉ RODRIGUES ALCKMIN FILHO \nMarina Basso Lacerda \nNísia Verônica Trindade Lima \n 
URL:https://cienciaviva.org.br/evento/janeiro-branco-promocao-da-saude-mental/
LOCATION:Brasil\, Brasil
CATEGORIES:Calendário de Eventos,Mês Nacional,Saúde
END:VEVENT
END:VCALENDAR