BEGIN:VCALENDAR
VERSION:2.0
PRODID:-//ECV - ECPv6.15.20//NONSGML v1.0//EN
CALSCALE:GREGORIAN
METHOD:PUBLISH
X-ORIGINAL-URL:https://cienciaviva.org.br
X-WR-CALDESC:Eventos para ECV
REFRESH-INTERVAL;VALUE=DURATION:PT1H
X-Robots-Tag:noindex
X-PUBLISHED-TTL:PT1H
BEGIN:VTIMEZONE
TZID:America/Sao_Paulo
BEGIN:STANDARD
TZOFFSETFROM:-0300
TZOFFSETTO:-0300
TZNAME:-03
DTSTART:20250101T000000
END:STANDARD
END:VTIMEZONE
BEGIN:VEVENT
DTSTART;TZID=America/Sao_Paulo:20260101T080000
DTEND;TZID=America/Sao_Paulo:20261231T170000
DTSTAMP:20260426T012038
CREATED:20260221T184940Z
LAST-MODIFIED:20260221T185026Z
UID:25884-1767254400-1798736400@cienciaviva.org.br
SUMMARY:2026: Ano Internacional da Mulher Agricultora
DESCRIPTION:As Nações Unidas declararam 2026 o Ano Internacional da Mulher Agricultora (IYWF 2026). \nO ano destacará o papel essencial que as mulheres desempenham em todos os sistemas agroalimentares\, da produção ao comércio\, muitas vezes sem o devido reconhecimento. \nAs mulheres agricultoras são fundamentais para a segurança alimentar\, a nutrição e a resiliência econômica. \nO IYWF 2026 visa aumentar a conscientização e promover ações para reduzir as desigualdades de gênero e melhorar a qualidade de vida das mulheres em todo o mundo. \nO Ano Internacional da Mulher Agricultora 2026 visa aumentar a conscientização sobre o papel das mulheres nos sistemas agroalimentares e os desafios que elas enfrentam\, incluindo a posse da terra\, as restrições financeiras e técnicas e o acesso limitado a serviços e educação. Busca também incentivar políticas e investimentos que empoderem as mulheres nos sistemas agroalimentares e promover maiores sinergias entre as iniciativas internacionais de apoio às mulheres agricultoras. \nSeja você um governo\, uma cidade\, uma empresa privada\, uma ONG\, um jornalista\, uma organização da sociedade civil ou um indivíduo\, você pode participar do Ano Internacional da Mulher Agricultora 2026.
URL:https://cienciaviva.org.br/evento/2026-ano-internacional-da-mulher-agricultora/
LOCATION:Planeta Terra\, Sistema Solar\, 3o\, planeta.
CATEGORIES:Dia Internacional
END:VEVENT
BEGIN:VEVENT
DTSTART;VALUE=DATE:20260301
DTEND;VALUE=DATE:20260302
DTSTAMP:20260426T012038
CREATED:20220228T162145Z
LAST-MODIFIED:20260216T215620Z
UID:18158-1772323200-1772409599@cienciaviva.org.br
SUMMARY:Dia Internacional da Discriminação Zero da UN-AIDS
DESCRIPTION:Salvar vidas\, não deixar ninguém para trás\nNo Dia da Discriminação Zero\, 1 de março\, celebramos o direito de todos a viver uma vida plena e produtiva – e vivê-la com dignidade. \nO Dia da Discriminação Zero destaca como as pessoas podem se informar e promover a inclusão\, a compaixão\, a paz e\, acima de tudo\, um movimento pela mudança. \nO Dia da Discriminação Zero está a ajudar a criar um movimento global de solidariedade para acabar com todas as formas de discriminação. \nAIDS – Dados 2022\n\n\n1.300.000 pessoas foram recentemente infectadas com HIV em 2022.\n\n\n\n39.000.000 pessoas viviam com HIV em 2022.\n\n\n\n630.000 pessoas morreram de doenças relacionadas à AIDS em 2022.\n\n\n\n\nONU-SIDA / UN-AIDS\n\nA ONU-SIDA lidera o esforço global para acabar com a AIDS como uma ameaça à saúde pública até 2030\, como parte dos Objetivos de Desenvolvimento Sustentável. \nDesde que os primeiros casos de VIH foram notificados\, há mais de 35 anos\, 78 milhões de pessoas foram infectadas pelo VIH e 35 milhões morreram de doenças relacionadas com a AIDS. \nDesde que iniciou as suas operações em 1996\, a ONU-SIDA tem liderado e inspirado liderança\, inovação e parceria globais\, regionais\, nacionais e locais para\, em última análise\, remeter o VIH para a história. \nO ONU-SIDA é um solucionador de problemas. Coloca as pessoas que vivem com o VIH e as pessoas afetadas pelo vírus na mesa de tomada de decisões e no centro da concepção\, implementação e monitorização da resposta à AIDS. \nEle traça caminhos para que países e comunidades adotem a via rápida para acabar com a AIDS e é um defensor ousado da abordagem das barreiras legais e políticas à resposta à AIDS. \n  \n\n\n\n\nA Estratégia Global contra a AIDS 2021–2026\nÉ uma abordagem nova e ousada que utiliza uma perspectiva de desigualdade para colmatar as lacunas que impedem o progresso no sentido de acabar com a AIDS.\nA Estratégia Global contra a AIDS visa reduzir estas desigualdades que impulsionam a epidemia da AIDS e dar prioridade às pessoas que ainda não têm acesso a serviços de VIH que salvam vidas.\nA Estratégia estabelece ações prioritárias baseadas em evidências e metas ousadas para colocar todos os países e todas as comunidades no caminho certo para acabar com a AIDS como uma ameaça à saúde pública até 2030. Download Resumo executivo  | Documento completo\n\n\nVeja também o Infográfico interativo das metas UN-AIDS 2025 em https://aidstargets2025.unaids.org/.
URL:https://cienciaviva.org.br/evento/dia-internacional-da-discriminacao-zero-unaids/
LOCATION:Planeta Terra\, Sistema Solar\, 3o\, planeta.
CATEGORIES:Dia Internacional,Saúde
END:VEVENT
BEGIN:VEVENT
DTSTART;VALUE=DATE:20260308
DTEND;VALUE=DATE:20260309
DTSTAMP:20260426T012038
CREATED:20210125T142844Z
LAST-MODIFIED:20260216T215422Z
UID:9298-1772928000-1773014399@cienciaviva.org.br
SUMMARY:Dia Internacional da Mulher
DESCRIPTION:O Dia Internacional da Mulher (8 de março) é um dia global que celebra as conquistas sociais\, econômicas\, culturais e políticas das mulheres. O dia também marca um apelo à ação para acelerar a igualdade das mulheres. \nO Dia Internacional da Mulher (IWD) ocorre há mais de um século\, com a primeira reunião IWD em 1911 apoiada por mais de um milhão de pessoas. Hoje\, o IWD pertence a todos os grupos coletivamente em todos os lugares. O IWD não é específico para um país\, grupo ou organização. \n  \nQuais cores simbolizam o Dia Internacional da Mulher?\nRoxo\, verde e branco são as cores do Dia Internacional da Mulher. Roxo significa justiça e dignidade. Verde simboliza esperança. O branco representa pureza\, embora seja um conceito controverso. As cores são originárias da União Política e Social das Mulheres (WSPU) no Reino Unido em 1908. \n  \nTema 2026\n2026: Direitos. Justiça. Ação. Para TODAS as Mulheres e Meninas\, tema oficial da ONU para 2026\, centrado em justiça\, eliminação de barreiras legais e ação global. \nNo dia 8 de março de 2026\, junte-se a mulheres e meninas de todo o mundo para exigir igualdade de direitos e justiça igualitária para garantir\, exercer e desfrutar desses direitos. \nAtualmente\, nenhuma nação conseguiu eliminar as disparidades legais entre homens e mulheres. Hoje\, as mulheres possuem apenas 64% dos direitos legais que os homens têm em todo o mundo. Em áreas fundamentais da vida\, como trabalho\, finanças\, segurança\, família\, propriedade\, mobilidade\, negócios e aposentadoria\, a lei sistematicamente coloca as mulheres em desvantagem. \nO Dia Internacional da Mulher de 2026 (IWD 2026)\, sob o tema “Direitos. Justiça. Ação. Para TODAS as Mulheres e Meninas”\, convoca à ação para desmantelar todas as barreiras à igualdade perante a lei: leis discriminatórias\, proteções legais frágeis e práticas e normas sociais prejudiciais que corroem os direitos das mulheres e meninas. \nTemas anteriores\n2025: Direitos. Equidade. Empoderamento\, tema das Nações Unidas enfatizando direitos\, igualdade e empoderamento para todas as mulheres e meninas. \n2024: Investir em Mulheres: Acelere o progresso\, foco da ONU no investimento em mulheres como motor do progresso econômico e social. \n2023: DigitALL: Inovação e tecnologia para equidade de gênero\, tema oficial da ONU voltado para inclusão digital\, inovação e tecnologia com equidade de gênero. \n2022: Equidade de Gênero hoje para um amanhã sustentável. Tema da ONU destacando a liderança de mulheres e meninas na ação climática. \n2021: Mulheres na liderança: Alcançando um futuro igualitário em um mundo COVID19. Reconhece o papel das mulheres na liderança e resposta à pandemia. \n2020: Eu sou a Geração Igualdade: Realizando os Direitos das Mulheres\, tema oficial da ONU\, alinhado com a campanha Generation Equality e os 25 anos da Plataforma de Ação de Pequim. \n  \nPara saber mais\n\nInforme educación en el mundo 2019: informe sobre género: Construyendo puentes para la igualdad de género. https://unesdoc.unesco.org/ark:/48223/pf0000369621?posInSet=22&queryId=2337b46c-2888-4324-9b92-cf4a4ca18e88\nNo dejar a nadie atrás: promoción de los derechos\, la inclusión y la no discriminación. https://unesdoc.unesco.org/ark:/48223/pf0000372355_spa\nDo acesso ao empoderamento: estratégia da UNESCO para a igualdade de gênero na e por meio da educação para 2019-2025. https://unesdoc.unesco.org/ark:/48223/pf0000372464\nEducación en STEM con perspectiva de género: empoderar a las niñas y las mujeres para los trabajos de hoy y de mañana. https://unesdoc.unesco.org/ark:/48223/pf0000366803_spa\nDecifrar o código: educação de meninas e mulheres em ciências\, tecnologia\, engenharia e matemática (STEM). https://unesdoc.unesco.org/ark:/48223/pf0000264691\nOrientaciones internacionales: violencia de género en el ámbito escolar. https://unesdoc.unesco.org/ark:/48223/pf0000368125\nSoluciones impulsadas por las juventudes: ampliar la huella cívica de las personas jóvenes y ponerles en contacto. https://unesdoc.unesco.org/ark:/48223/pf0000372357_spa\nAgenda 2030: “Não deixe ninguém para trás“. https://eacnur.org/es/actualidad/noticias/emergencias/agenda-2030-no-dejar-nadie-atras?-CPC-GEN=&-Organico-General=\nO que é desigualdade\, que tipos existem e quais as consequências que isso tem? https://eacnur.org/blog/que-es-desigualdad-que-tipos-existen-y-que-consecuencias-tiene-tc_alt45664n_o_pstn_o_pst/\nObjetivo 10: reduzir a desigualdade dentro e entre os países. https://agenda2030lac.org/es/ods/10-reduccion-de-las-desigualdades\nODS 10: Reducción de las desigualdades. https://repositorio.cepal.org/handle/11362/45172\nIgualdade de Gênero. https://www.ods.gov.co/es/objetivos/igualdad-de-genero\nMeta 5: Alcançar a igualdade de gênero e empoderar todas as mulheres e meninas. https://agenda2030lac.org/es/ods/5-igualdad-de-genero\nUm mundo totalmente novo\, repensado pelas mulheres. https://unesdoc.unesco.org/ark:/48223/pf0000373788_por\nCOVID-19 pode matar o progresso em direção à igualdade de gênero se não agirmos imediatamente. https://news.un.org/es/story/2020/10/1481642\nMeta 5: Alcançar a igualdade de gênero e empoderar todas as mulheres e meninas. https://www.un.org/sustainabledevelopment/es/gender-equality/
URL:https://cienciaviva.org.br/evento/2021-dia-internacional-da-mulher/
LOCATION:Planeta Gaia
CATEGORIES:Calendário de Eventos,Dia Internacional
ATTACH;FMTTYPE=image/png:https://cienciaviva.org.br/wp-content/uploads/2021/01/thumbnail_un_womens_day.png
END:VEVENT
BEGIN:VEVENT
DTSTART;VALUE=DATE:20260320
DTEND;VALUE=DATE:20260321
DTSTAMP:20260426T012038
CREATED:20220228T163231Z
LAST-MODIFIED:20260216T213642Z
UID:18169-1773964800-1774051199@cienciaviva.org.br
SUMMARY:Dia Internacional da Felicidade
DESCRIPTION:O Dia Internacional da Felicidade foi criado pela ONU (Organização das Nações Unidas)\, em junho de 2012. \nA Organização das Nações Unidas está consciente de que a busca da felicidade é um objetivo humano fundamental. \nA Organização das Nações Unidas reconhece a relevância da felicidade e do bem-estar como metas e aspirações universais na vida dos seres humanos em todo o mundo e a importância de seu reconhecimento nos objetivos das políticas públicas. \nE reconhece também a necessidade de uma abordagem mais inclusiva\, equitativa e equilibrada do crescimento econômico que promova o desenvolvimento sustentável\,  erradicação da pobreza\, felicidade e bem-estar de todos os povos. (ONU\, Resolução A/RES/66/281) \nO Dia Internacional da Felicidade é comemorado anualmente em 20 de março. \nO International Day of Happiness\, como é conhecido mundialmente\, tem o objetivo de promover a felicidade e alegria entre os povos do mundo\, evitando os conflitos e guerras sociais\, étnicas ou qualquer outro tipo de comportamento que ponha em risco a paz e o bem-estar das sociedades. \nA decisão de criar um dia dedicado à felicidade surgiu durante uma reunião geral das Nações Unidas\, sob o tema “Felicidade e Bem-Estar: Definindo um Novo Paradigma Econômico“\, em abril de 2012. Mas\, o “pontapé inicial” da iniciativa foi do Butão\, um pequeno país asiático\, que se orgulha de possuir uma das populações “mais felizes do mundo”.  \nA proposta de Butão foi aceita e o Dia Internacional da Felicidade passou a incorporar o calendário oficial da ONU em 20 de março. Assim\, em 2013 o mundo comemorou pela primeira vez o Dia Internacional da Felicidade. \nDesde 1972\, Butão adota uma postura de “felicidade bruta e absoluta”\, fazendo com que a “Felicidade Nacional Bruta” seja prioridade acima do Produto Interno Bruto (PIB) do país. \n\nProjeto Escolas Felizes da UNESCO\n\n\n\nIniciado em 2014 pela UNESCO Bangkok\, o Projeto Escolas Felizes oferece uma abordagem alternativa para melhorar as experiências de aprendizagem\, priorizando a felicidade escolar. \nAo focar no bem-estar\, no envolvimento e no sentimento de pertencimento na escola\, o Projeto Escolas Felizes ajuda a promover um amor pela aprendizagem para toda a vida. \nEm 2022\,   foram desenvolvidos um guia e um kit de ferramentas disponíveis em: \n\nhttps://unesdoc.unesco.org/ark:/48223/pf0000244140\ne https://unesdoc.unesco.org/ark:/48223/pf0000377800.\n\nO Projeto Escolas Felizes está a tornar-se global com a sua defesa da prioridade ao bem-estar e à felicidade nas escolas\, com foco renovado na melhoria das experiências de aprendizagem. \n\n\nO tema oficial de 2026 é Felicidade e Mídias Sociais  que explora a relação entre redes sociais e felicidade\, destacando tanto desafios quanto formas positivas de usar a tecnologia para promover bem-estar. \n“ Nossos relacionamentos com os outros são o maior indicador de saúde e felicidade ao longo da vida. Em um momento de crescente polarização e isolamento\, o mais importante que podemos fazer é encontrar maneiras positivas de superar nossas divisões e nos conectar mais profundamente uns com os outros. Isso importa agora mais do que nunca .”  — Dr. Mark Williamson (Ação pela Felicidade) \nO impacto das redes sociais no bem-estar também é o tema do próximo Relatório Mundial da Felicidade\, que será publicado em 20 de março de 2026. No relatório\, diversos especialistas utilizarão os dados globais mais recentes para explorar a relação entre a extensão e a natureza das redes sociais e as diferenças nas tendências de felicidade dentro e entre países e em todo o mundo. \nEm 2026\, vários recursos da campanha estão disponíveis para cadastro e download em https://www.dayofhappiness.net/thank-you
URL:https://cienciaviva.org.br/evento/dia-internacional-da-felicidade/
LOCATION:Planeta Terra\, Sistema Solar\, 3o\, planeta.
CATEGORIES:Dia Internacional,Vida e Saúde
END:VEVENT
BEGIN:VEVENT
DTSTART;VALUE=DATE:20260321
DTEND;VALUE=DATE:20260322
DTSTAMP:20260426T012038
CREATED:20220228T163722Z
LAST-MODIFIED:20260216T212626Z
UID:18173-1774051200-1774137599@cienciaviva.org.br
SUMMARY:Dia Internacional para a Eliminação da Discriminação Racial
DESCRIPTION:O Dia Internacional de Luta pela Eliminação da Discriminação Racial foi criado pela Organização das Nações Unidas (ONU) e celebra-se em 21 de março. \nA data faz referência ao Massacre de Sharpeville. \nEm 21 de março de 1960\, na cidade de Joanesburgo\, na África do Sul\,  20.000 pessoas faziam um protesto contra a Lei do Passe\, que obrigava a população negra a portar um cartão que continha os locais onde era permitida sua circulação. Porém\, mesmo tratando-se de uma manifestação pacífica\, a polícia do regime de apartheid  abriu fogo sobre a multidão desarmada resultando em 69 mortos e 186 feridos. \nEm 20 de novembro de 1963 a  Assembleia Geral das Nações Unidas  proclamou a Declaração sobre a Eliminação de todas as formas de Discriminação Racial. No texto\, afirma a necessidade de eliminação imediata da discriminação racial em todo o mundo\, em todas as suas formas e manifestações e de assegurar a compreensão e o respeito à dignidade da pessoa humana\, e também a necessidade de adoção de medidas nacionais e internacionais para esse fim\, incluindo a educação\, ensino e informação. \nE\, em seguida\, a Assembleia Geral das Nações Unidas\, em 26 de outubro de 1966 aprovou a Resolução (A/RES/2142 (XXI)) estabelecendo o Dia Internacional contra a Discriminação Racial. \n  \n 
URL:https://cienciaviva.org.br/evento/dia-internacional-para-a-eliminacao-da-discriminacao-racial/
LOCATION:Planeta Terra\, Sistema Solar\, 3o\, planeta.
CATEGORIES:Antirracismo,Dia Internacional
END:VEVENT
BEGIN:VEVENT
DTSTART;VALUE=DATE:20260321
DTEND;VALUE=DATE:20260322
DTSTAMP:20260426T012038
CREATED:20220228T164442Z
LAST-MODIFIED:20260216T212030Z
UID:18177-1774051200-1774137599@cienciaviva.org.br
SUMMARY:Dia Internacional de Novo Dia (Primavera Boreal)
DESCRIPTION:O que é Novo Dia (Nowruz) e por que é celebrado?\nÉ o mais sagrado e divertido festival da herança cultural zoroastriana e a mais importante data nacional para todos os iranianos. \nA palavra Nowruz (com diferentes ortografias e pronúncias – Novruz\, Navruz\, Nooruz\, Nevruz\, Nauryz)\, significa novo dia. \nO Novo Dia remonta ao período Aquemênida em cerca de 500 a.C. como a celebração da chegada da primavera boreal no Hemisfério Norte\, quando o sol volta a surgir com força e a natureza se renova. \nNowruz marca o primeiro dia da primavera no hemisfério norte e é comemorado no dia do equinócio vernal astronômico\, que geralmente ocorre em 21 de março. É comemorado como o início do novo ano por mais de 300 milhões de pessoas em todo o mundo e tem sido celebrado há mais de 3.000 anos nos Balcãs\, na Bacia do Mar Negro\, no Cáucaso\, na Ásia Central\, no Médio Oriente e noutras regiões. \nInscrito em 2009 na Lista Representativa do Património Cultural Imaterial da Humanidade como uma tradição cultural observada por numerosos povos\, o Nowruz é uma festa ancestral que marca o primeiro dia da primavera e a renovação da natureza. Promove valores de paz e solidariedade entre gerações e no seio das famílias\, bem como a reconciliação e a boa vizinhança\, contribuindo assim para a diversidade cultural e a amizade entre povos e diferentes comunidades. \nNowruz desempenha um papel significativo no fortalecimento dos laços entre os povos com base no respeito mútuo e nos ideais de paz e boa vizinhança. As suas tradições e rituais refletem os costumes culturais e antigos das civilizações do Oriente e do Ocidente\, que influenciaram essas civilizações através do intercâmbio de valores humanos. \nCelebrar o Nowruz significa a afirmação \n\nda vida em harmonia com a natureza\,\nda consciência da ligação indissociável entre o trabalho construtivo e os ciclos naturais de renovação\ne de uma atitude solícita e respeitosa para com as fontes naturais de vida.\n\nO Dia Internacional do Nowruz foi proclamado pela Assembleia Geral das Nações Unidas\, na sua resolução A/RES/64/253 de 2010\, por iniciativa de vários países que partilham este feriado. No âmbito do ponto da agenda “cultura de paz”\, os estados membros do Afeganistão\, Azerbaijão\, Albânia\, Antiga República Jugoslava da Macedónia\, Irão (República Islâmica do)\, Índia\, Cazaquistão\, Quirguizistão\, Tajiquistão\, Turquia e Turquemenistão prepararam e introduziram um projeto de resolução ( A/64/L.30 ) intitulado “Dia Internacional de Nowruz” para a 64ª sessão da Assembleia Geral das Nações Unidas em curso para sua consideração e adoção. \nNa 71ª reunião plenária\, em 23 de Fevereiro de 2010\, a Assembleia Geral saudou a inclusão de Nowruz na Lista Representativa do Património Cultural Imaterial da Humanidade pela Organização das Nações Unidas para a Educação\, a Ciência e a Cultura\, em 30 de Setembro de 2009. \nReconheceu também o dia 21 de Março como o Dia Internacional de Nowruz . \nMensagem do secretário-geral da ONU\, António Guterres\, para 2023\n\nNowruz marca novos começos.\nUm novo dia”.\nUm novo ano.\nA chegada da primavera e o renascimento da natureza. \n  \nPara mais de 300 milhões de pessoas em todo o mundo\, é um momento para a família e os amigos se reunirem\, refletirem sobre o passado e ansiarem por um futuro melhor. Nowruz é também uma celebração da rica herança cultural e diversidade da humanidade. E uma oportunidade – para todos nós – de nos guiarmos pelos seus valores de paz\, diálogo e solidariedade: \n  \nReafirmar o nosso compromisso com os direitos humanos e a dignidade;  \nPromover o respeito mútuo e a reconciliação; \nProteger o planeta e viver em harmonia com a natureza. \n  \nAo celebrarmos o Nowruz\, escolhamos a esperança e a compaixão\, aproveitemos as oportunidades que temos pela frente e trabalhemos em conjunto para construir um mundo mais pacífico\, mais sustentável e mais inclusivo para todos. \nQue este Nowruz lhe traga alegria\, boa saúde e prosperidade.
URL:https://cienciaviva.org.br/evento/dia-internacional-de-nowruz-novo-dia-primavera-boreal/
LOCATION:Hemisfério Norte
CATEGORIES:Cultura,Dia Internacional,Universo
END:VEVENT
BEGIN:VEVENT
DTSTART;VALUE=DATE:20260321
DTEND;VALUE=DATE:20260322
DTSTAMP:20260426T012038
CREATED:20220228T165031Z
LAST-MODIFIED:20260216T210642Z
UID:18182-1774051200-1774137599@cienciaviva.org.br
SUMMARY:Dia Internacional das Florestas
DESCRIPTION:(A/RES/67/200) \nA Assembleia Geral das Nações Unidas proclamou o dia 21 de março como o Dia Internacional das Florestas em 2012 para celebrar e sensibilizar para a importância de todos os tipos de florestas. \nOs países são incentivados a empreender esforços locais\, nacionais e internacionais para organizar atividades que envolvam florestas e árvores\, tais como campanhas de plantação de árvores. \nOs organizadores são o Fórum das Nações Unidas sobre Florestas e a Organização das Nações Unidas para a Alimentação e a Agricultura (FAO) \, em colaboração com os governos\, a Parceria Colaborativa sobre Florestas e outras organizações relevantes na área. \nO tema de cada Dia Internacional das Florestas é escolhido pela Parceria Colaborativa sobre Florestas. \nEm 2026\,  o tema é Florestas e Economia\, que enfatiza como as florestas impulsionam economias sustentáveis\, geram empregos\, apoiam sistemas agrícolas\, regulam o clima e fornecem serviços ecossistêmicos vitais. \nEm 2025\, o tema foi Florestas e Alimento\, que destaca o papel essencial das florestas para a segurança alimentar\, nutrição\, meios de subsistência\, biodiversidade e serviços ecossistêmicos. \nEm 2024\, o tema foi ‘Florestas e inovação’. \nEm 2023\, o tema foi ‘Florestas e saúde’.
URL:https://cienciaviva.org.br/evento/dia-internacional-das-florestas/
LOCATION:Planeta Terra\, Sistema Solar\, 3o\, planeta.
CATEGORIES:Biodiversidade,Dia Internacional,Meio Ambiente,Vida e Saúde
END:VEVENT
END:VCALENDAR