BEGIN:VCALENDAR
VERSION:2.0
PRODID:-//ECV - ECPv6.15.20//NONSGML v1.0//EN
CALSCALE:GREGORIAN
METHOD:PUBLISH
X-ORIGINAL-URL:https://cienciaviva.org.br
X-WR-CALDESC:Eventos para ECV
REFRESH-INTERVAL;VALUE=DURATION:PT1H
X-Robots-Tag:noindex
X-PUBLISHED-TTL:PT1H
BEGIN:VTIMEZONE
TZID:America/Sao_Paulo
BEGIN:STANDARD
TZOFFSETFROM:-0300
TZOFFSETTO:-0300
TZNAME:-03
DTSTART:20250101T000000
END:STANDARD
END:VTIMEZONE
BEGIN:VEVENT
DTSTART;VALUE=DATE:20260702
DTEND;VALUE=DATE:20260703
DTSTAMP:20260423T121300
CREATED:20210627T145700Z
LAST-MODIFIED:20260221T202819Z
UID:13377-1782950400-1783036799@cienciaviva.org.br
SUMMARY:Dia Nacional do Hospital
DESCRIPTION:Homenagem à criação do primeiro hospital do Brasil – a Santa Casa de Misericórdia de Santos\, fundada em 1543\, em São Paulo\, por Brás Cubas. \nConheça a história da Santa Casa de Misericórdia de Santos\, clicando aqui. \nEm 2 de julho de 1945\, a Santa Casa de Misericórdia de Santos foi reinaugurada pelo presidente Getúlio Vargas\, data escolhida para comemorar o Dia do Hospital no Brasil\, conforme Decreto 50.871\, de 27 de junho de 1961.
URL:https://cienciaviva.org.br/evento/dia-nacional-do-hospital/
LOCATION:Brasil\, Brasil
CATEGORIES:Calendário de Eventos,Dias Nacionais,Vida e Saúde
END:VEVENT
END:VCALENDAR