BEGIN:VCALENDAR
VERSION:2.0
PRODID:-//ECV - ECPv6.15.20//NONSGML v1.0//EN
CALSCALE:GREGORIAN
METHOD:PUBLISH
X-WR-CALNAME:ECV
X-ORIGINAL-URL:https://cienciaviva.org.br
X-WR-CALDESC:Eventos para ECV
REFRESH-INTERVAL;VALUE=DURATION:PT1H
X-Robots-Tag:noindex
X-PUBLISHED-TTL:PT1H
BEGIN:VTIMEZONE
TZID:America/Sao_Paulo
BEGIN:STANDARD
TZOFFSETFROM:-0300
TZOFFSETTO:-0300
TZNAME:-03
DTSTART:20250101T000000
END:STANDARD
END:VTIMEZONE
BEGIN:VEVENT
DTSTART;VALUE=DATE:20260713
DTEND;VALUE=DATE:20260714
DTSTAMP:20260424T044232
CREATED:20210627T150946Z
LAST-MODIFIED:20260221T200952Z
UID:13386-1783900800-1783987199@cienciaviva.org.br
SUMMARY:Dia Nacional do Engenheiro de Saneamento
DESCRIPTION:O foco principal do engenheiro de saneamento é a qualidade de vida da população\, garantindo que tenham acesso à água potável e tratada para consumo e que tenham um sistema de tratamento de esgotos adequado e funcional. \nEsta data foi criada pelo decreto de lei nº 53.697\, de 13 de março de 1964\, em homenagem à data do sancionamento da lei nº 4.089\, de 13 de julho de 1963\, que garantiu a criação do Departamento Nacional de Obras de Saneamento. \nA DNOS passou por várias fases: \n\no tempo do apelo e da espera\,\no tempo da presença\,\no tempo da crise\ne o tempo da lembrança\, com a extinção ao órgão\, em plena fase do neoliberalismo.\n\nAs atuais crises sanitárias que o Brasil enfrenta com a destruição de políticas públicas e de saúde\, tornam mais importante do que nunca se engajar nas lutas e comemorações desse dia.
URL:https://cienciaviva.org.br/evento/dia-nacional-do-engenheiro-de-saneamento/
LOCATION:Brasil\, Brasil
CATEGORIES:Calendário de Eventos,Dias Nacionais,Vida e Saúde
END:VEVENT
END:VCALENDAR