BEGIN:VCALENDAR
VERSION:2.0
PRODID:-//ECV - ECPv6.15.20//NONSGML v1.0//EN
CALSCALE:GREGORIAN
METHOD:PUBLISH
X-ORIGINAL-URL:https://cienciaviva.org.br
X-WR-CALDESC:Eventos para ECV
REFRESH-INTERVAL;VALUE=DURATION:PT1H
X-Robots-Tag:noindex
X-PUBLISHED-TTL:PT1H
BEGIN:VTIMEZONE
TZID:America/Sao_Paulo
BEGIN:STANDARD
TZOFFSETFROM:-0300
TZOFFSETTO:-0300
TZNAME:-03
DTSTART:20250101T000000
END:STANDARD
END:VTIMEZONE
BEGIN:VEVENT
DTSTART;VALUE=DATE:20260717
DTEND;VALUE=DATE:20260718
DTSTAMP:20260423T121303
CREATED:20210627T151204Z
LAST-MODIFIED:20260221T200441Z
UID:13389-1784246400-1784332799@cienciaviva.org.br
SUMMARY:Dia Nacional de Proteção às Florestas
DESCRIPTION:(Dia Nacional do Curupira) \nNa cultura popular brasileira\, a proteção das florestas é personificada na figura mística do Curupira\, um espírito mágico que habita as florestas e ajuda a protegê-la da invasão e ataque de pessoas má intencionadas. \nEm 1971\, durante o Congresso Florestal Mundial em Madri\, 17 de julho foi proposto como Dia Internacional da Floresta — posteriormente incorporado no Brasil como data de conscientização\,\n\n\nNão há lei federal brasileira que institua oficialmente o dia\, mas a data é amplamente adotada por órgãos ambientais\, ONGs\, imprensa e escolas como marco de conscientização. É amplamente difundida por entidades como CFBio\, CREA\, ONGs e projetos de conservação.\n\nPor este motivo\, o dia 17 de julho também é considerado o Dia do Curupira\, o “protetor das florestas”.
URL:https://cienciaviva.org.br/evento/dia-nacional-de-protecao-as-florestas/
LOCATION:Brasil\, Brasil
CATEGORIES:Calendário de Eventos,Dias Nacionais,Vida e Saúde
END:VEVENT
END:VCALENDAR