BEGIN:VCALENDAR
VERSION:2.0
PRODID:-//ECV - ECPv6.15.20//NONSGML v1.0//EN
CALSCALE:GREGORIAN
METHOD:PUBLISH
X-ORIGINAL-URL:https://cienciaviva.org.br
X-WR-CALDESC:Eventos para ECV
REFRESH-INTERVAL;VALUE=DURATION:PT1H
X-Robots-Tag:noindex
X-PUBLISHED-TTL:PT1H
BEGIN:VTIMEZONE
TZID:America/Sao_Paulo
BEGIN:STANDARD
TZOFFSETFROM:-0300
TZOFFSETTO:-0300
TZNAME:-03
DTSTART:20250101T000000
END:STANDARD
END:VTIMEZONE
BEGIN:VEVENT
DTSTART;VALUE=DATE:20260227
DTEND;VALUE=DATE:20260228
DTSTAMP:20260422T193951
CREATED:20220106T161047Z
LAST-MODIFIED:20260212T210205Z
UID:17805-1772150400-1772236799@cienciaviva.org.br
SUMMARY:Dia Nacional do Livro Didático
DESCRIPTION:O Dia Nacional do Livro Didático é celebrado no Brasil em 27 de fevereiro. \nA data destaca um instrumento essencial no processo de aprendizado\, tanto servindo de bússola aos educadores\, quanto ofertando aos estudantes uma gama de conhecimentos necessários nas mais variadas etapas da vida escolar. Para o Ministério da Educação\, a data lembra\, também\, a eficácia do Programa Nacional do Livro e do Material Didático (PNLD)\, executado pelo Fundo Nacional de Desenvolvimento da Educação (FNDE)\, autarquia da pasta. \nO PNLD tem como objetivo avaliar e distribuir obras didáticas\, pedagógicas\, literárias e outros materiais de apoio à prática educativa às escolas públicas de educação básica das redes federal\, estaduais\, municipais. \nCriado em 1985\, O PNLD substitui outro programa\, do Instituto Nacional do Livro (INL)\, ainda mais antigo\, inaugurado em 1929. Mesmo sendo uma das mais antigas políticas educacionais brasileiras\, o PNLD passou por muitas adaptações para tornar o trabalho de escolha tanto da rede\, quando do professor mais fácil e dinâmico.
URL:https://cienciaviva.org.br/evento/dia-nacional-do-livro-didatico/
LOCATION:Brasil\, Brasil
CATEGORIES:Dias Nacionais,Educação
END:VEVENT
END:VCALENDAR