BEGIN:VCALENDAR
VERSION:2.0
PRODID:-//ECV - ECPv6.15.20//NONSGML v1.0//EN
CALSCALE:GREGORIAN
METHOD:PUBLISH
X-ORIGINAL-URL:https://cienciaviva.org.br
X-WR-CALDESC:Eventos para ECV
REFRESH-INTERVAL;VALUE=DURATION:PT1H
X-Robots-Tag:noindex
X-PUBLISHED-TTL:PT1H
BEGIN:VTIMEZONE
TZID:America/Sao_Paulo
BEGIN:STANDARD
TZOFFSETFROM:-0300
TZOFFSETTO:-0300
TZNAME:-03
DTSTART:20250101T000000
END:STANDARD
END:VTIMEZONE
BEGIN:VEVENT
DTSTART;VALUE=DATE:20260324
DTEND;VALUE=DATE:20260325
DTSTAMP:20260423T044232
CREATED:20220228T165621Z
LAST-MODIFIED:20260215T034546Z
UID:18189-1774310400-1774396799@cienciaviva.org.br
SUMMARY:Dia Mundial da Tuberculose
DESCRIPTION:O Dia Mundial da Tuberculose (TB) é observado em 24 de março de cada ano para aumentar a conscientização e a compreensão sobre um dos principais problemas infecciosos do mundo e catalisar ações para lidar com seu impacto devastador na saúde\, social e econômico em todo o mundo. \nTodos os anos comemoramos o Dia Mundial da TB para aumentar a consciência pública sobre as devastadoras consequências sanitárias\, sociais e económicas da tuberculose (TB) e para intensificar os esforços para acabar com a epidemia global de TB. \nA data marca o dia de 1882 em que o Dr. Robert Koch anunciou que havia descoberto a bactéria causadora da tuberculose\, o que abriu caminho para o diagnóstico e a cura da doença. \nO tema do Dia Mundial da Tuberculose 2026 é \nSIM! NÓS PODEMOS ACABAR COM A TUBERCULOSE (TB)! \nConheça os temas dos anos anteriores em: \n2025   –  2024  – 2023  – 2022  – 2021 – 2020 \n2019   –  2018  –  2017  –  2016 – 2015 – 2014 – 2013 \nMais de 1\,1 milhão de crianças e adolescentes menores de 15 anos adoeceram com TB em todo o mundo em 2020\, e 226.000 crianças e adolescentes perderam suas vidas por causa dessa doença evitável e curável. \nA COVID-19 teve um impacto negativo adicional e desproporcional em crianças e adolescentes com TB ou em risco\, com aumento da transmissão da TB no domicílio\, menos procura de cuidados e acesso a serviços de saúde. \nEm 2020\, estima-se que 63% das crianças e adolescentes menores de 15 anos com TB não foram atendidos ou não foram oficialmente notificados de terem acessado serviços de diagnóstico e tratamento de TB que salvam vidas; a proporção foi ainda maior – 72% – para crianças menores de 5 anos. \nA tuberculose é o segundo maior assassino infeccioso após o COVID-19 no mundo\, ceifando mais de 4.100 vidas por dia. \nMais informações e material de comunicação podem ser encontrado no link do Dia Mundial da Tuberculose. \n 
URL:https://cienciaviva.org.br/evento/dia-mundial-da-tuberculose/
LOCATION:Planeta Terra\, Sistema Solar\, 3o\, planeta.
CATEGORIES:Dia Mundial,Vida e Saúde
END:VEVENT
END:VCALENDAR