BEGIN:VCALENDAR
VERSION:2.0
PRODID:-//ECV - ECPv6.15.20//NONSGML v1.0//EN
CALSCALE:GREGORIAN
METHOD:PUBLISH
X-ORIGINAL-URL:https://cienciaviva.org.br
X-WR-CALDESC:Eventos para ECV
REFRESH-INTERVAL;VALUE=DURATION:PT1H
X-Robots-Tag:noindex
X-PUBLISHED-TTL:PT1H
BEGIN:VTIMEZONE
TZID:America/Sao_Paulo
BEGIN:STANDARD
TZOFFSETFROM:-0300
TZOFFSETTO:-0300
TZNAME:-03
DTSTART:20250101T000000
END:STANDARD
END:VTIMEZONE
BEGIN:VEVENT
DTSTART;VALUE=DATE:20260424
DTEND;VALUE=DATE:20260501
DTSTAMP:20260422T194134
CREATED:20200325T235442Z
LAST-MODIFIED:20260315T002825Z
UID:3640-1776988800-1777593599@cienciaviva.org.br
SUMMARY:Semana Mundial de Imunização
DESCRIPTION:Vacinas funcionam para todas as gerações!\n\n\n\n\n\n  \n\nCelebrada na última semana de abril\, a Semana Mundial de Imunização visa promover o uso de vacinas para proteger pessoas de todas as idades contra doenças. A imunização salva milhões de vidas todos os anos e é amplamente reconhecida como uma das intervenções de saúde mais bem-sucedidas e econômicas do mundo. No entanto\, ainda existem hoje quase 20 milhões de crianças não vacinadas e sub-vacinadas no mundo. \nO tema da campanha de 2026 é  “Vacinas funcionam para todas as gerações”\, e visa promover como as vacinas protegem seguramente pessoas\, famílias e comunidades\,  por gerações – e continuam a salvaguardar nosso futuro.  \n\nE a campanha celebrará os Heróis de Vacinas de todo o mundo – desde pais e membros da comunidade até profissionais de saúde e inovadores – que ajudam a garantir que todos nós estejamos protegidos\, em todas as idades\, através do poder das vacinas.\n\n\n\nVasto progresso\, mas ganhos frágeis\nEm 2017\, o número de crianças imunizadas – 116\,2 milhões – foi o mais alto já registrado. Desde 2010\, 113 países introduziram novas vacinas e mais de 20 milhões de crianças adicionais foram vacinadas. \nMas\, apesar dos ganhos\, todos os alvos para a eliminação da doença – incluindo sarampo\, rubéola e tétano materno e neonatal – estão atrasados ??e\, nos últimos dois anos\, o mundo viu vários surtos de sarampo\, difteria e várias outras doenças evitáveis ??por vacina. A maioria das crianças perdidas é aquela que vive nas comunidades mais pobres\, marginalizadas e afetadas por conflitos. \nPara que todos\, em todos os lugares\, possam sobreviver e prosperar\, os países devem intensificar os esforços para garantir que todas as pessoas recebam os benefícios que salvam vidas das vacinas. Além disso\, os países que alcançaram ou progrediram em direção às metas devem trabalhar para sustentar o progresso que alcançaram. \nObjetivos da campanha\nO principal objetivo da campanha é aumentar a conscientização sobre a importância crítica da imunização completa ao longo da vida \nComo parte da campanha\, a OMS e os parceiros visam: \n\nDemonstrar o valor das vacinas para a saúde das crianças\, comunidades e do mundo.\nDestaque a necessidade de aproveitar o progresso da imunização e\, ao mesmo tempo\, abordar as lacunas\, inclusive por meio de um maior investimento.\nMostre como a imunização de rotina é a base para sistemas de saúde fortes e resilientes e cobertura universal de saúde.\n\nPor que a imunização é importante\nA expansão do acesso à imunização é vital para a consecução dos Objetivos de Desenvolvimento Sustentável\, redução da pobreza e cobertura universal de saúde. A imunização de rotina fornece um ponto de contato para os cuidados de saúde no início da vida e oferece a todas as crianças a chance de uma vida saudável desde o início e até a velhice. \nA imunização também é uma estratégia fundamental para alcançar outras prioridades de saúde\, desde o controle da hepatite viral\, até a resistência antimicrobiana\, fornecendo uma plataforma para a saúde do adolescente e melhorando o atendimento pré-natal e ao recém-nascido. \nMensagens-chave\n\nPrecisamos da ajuda de todos os heróis em todos os lugares para alcançar 1 em cada 10 crianças que ainda não têm acesso a vacinas.\nEm todas as idades\, as vacinas salvam vidas. Eles protegem nossos filhos e protegem todos nós como adultos.\nVacinas significam vidas vividas – significam um futuro melhor para nossos filhos e os deles por vir.\nPodemos garantir que as vacinas cheguem às pessoas que mais precisam. Você pode ser um herói da vacina.\n\nGaranta que você e sua família sejam vacinados a tempo\, sempre\nViajando? Saiba antes de ir – verifique se as vacinas de sua família estão atualizadas.\nSeja um campeão de vacinas – Converse com as pessoas sobre os benefícios das vacinas. As vacinas salvam vidas\, ajudam as crianças a aprender e crescer e a prevenir doenças e deficiências graves.\nConheça os fatos. Qualquer vacina licenciada foi rigorosamente testada antes do uso para garantir que seja segura e eficaz para você e sua família .\nTrabalhadores da saúde: todo check-up é uma oportunidade de fazer check-in da vacinação para crianças\, jovens\, adultos\, idosos\n\n\n\n 
URL:https://cienciaviva.org.br/evento/semana-mundial-de-imunizacao/
LOCATION:Planeta Terra\, Sistema Solar\, 3o\, planeta.
CATEGORIES:Calendário de Eventos,Vida e Saúde
ATTACH;FMTTYPE=image/jpeg:https://cienciaviva.org.br/wp-content/uploads/2020/03/champion-quote-template.jpg
END:VEVENT
BEGIN:VEVENT
DTSTART;VALUE=DATE:20260429
DTEND;VALUE=DATE:20260430
DTSTAMP:20260422T194134
CREATED:20200505T002544Z
LAST-MODIFIED:20260315T001805Z
UID:5720-1777420800-1777507199@cienciaviva.org.br
SUMMARY:Dia Internacional Conscientização sobre o Ruído
DESCRIPTION:Dia Internacional de Conscientização sobre o Ruído\, conhecido também pelo nome em inglês International Noise Awareness Day (Inad)\, ocorre na quarta-feira 29 de abril. \nO International Noise Awareness Day é uma campanha global \, fundada em 1996 pelo Centro de Audição e Comunicação (CHC)\, com o objetivo de conscientizar os efeitos do ruído sobre o bem-estar e a saúde das pessoas. O barulho afeta as pessoas de várias maneiras\, mas apenas a surdez e o aborrecimento recebem o interesse real do público em geral. Em todo o mundo\, as pessoas são convidadas a participar de várias ações nesta ocasião: dias abertos ao ouvir acústicos\, palestras em departamentos de saúde pública\, universidades e escolas\, painéis de especialistas\, ações de medição do nível de ruído e leituras. \nO dia é comemorado na última quarta-feira de abril de cada ano. Atividades destinadas a criar um foco não apenas no ruído\, mas também em meios de redução dos níveis de ruído\, são organizadas em vários países do mundo\, incluindo Brasil\, Chile\, Alemanha\, Itália\, Espanha e Estados Unidos. Nos últimos anos\, houve eventos relacionados iniciados na Ásia\, incluindo Cingapura e Austrália. \nO objetivo da iniciativa anual é \n\nconscientizar a população brasileira sobre o ruído e seus efeitos na saúde\, qualidade de vida\, meio ambiente\ne sobre a responsabilidade de cada um em reduzir o ruído gerado pelas atividades diárias\, entendendo que a mudança de mentalidade\, no que se refere à poluição sonora\, deve ser estimulada desde a primeira infância.\n\nINAD BRASIL . Conheça aqui.
URL:https://cienciaviva.org.br/evento/dia-internacional-conscientizacao-sobre-o-ruido/
LOCATION:Planeta Terra\, Sistema Solar\, 3o\, planeta.
CATEGORIES:Calendário de Eventos,Dia Mundial,Vida e Saúde
ATTACH;FMTTYPE=image/jpeg:https://cienciaviva.org.br/wp-content/uploads/2020/05/Cartaz-inad-2020-640x905-1.jpg
END:VEVENT
END:VCALENDAR