BEGIN:VCALENDAR
VERSION:2.0
PRODID:-//ECV - ECPv6.15.20//NONSGML v1.0//EN
CALSCALE:GREGORIAN
METHOD:PUBLISH
X-WR-CALNAME:ECV
X-ORIGINAL-URL:https://cienciaviva.org.br
X-WR-CALDESC:Eventos para ECV
REFRESH-INTERVAL;VALUE=DURATION:PT1H
X-Robots-Tag:noindex
X-PUBLISHED-TTL:PT1H
BEGIN:VTIMEZONE
TZID:America/Sao_Paulo
BEGIN:STANDARD
TZOFFSETFROM:-0200
TZOFFSETTO:-0300
TZNAME:-03
DTSTART:20190217T020000
END:STANDARD
END:VTIMEZONE
BEGIN:VEVENT
DTSTART;TZID=America/Sao_Paulo:20200309T090000
DTEND;TZID=America/Sao_Paulo:20200309T180000
DTSTAMP:20260424T230656
CREATED:20200124T004609Z
LAST-MODIFIED:20200124T004609Z
UID:2212-1583744400-1583776800@cienciaviva.org.br
SUMMARY:Seminário "A ciência da Divulgação Científica IV"
DESCRIPTION:Um dia inteiro para pensar e refletir sobre a pesquisa em divulgação científica! \nVem aí o seminário “A ciência da divulgação científica IV”\, encontro que reúne grandes nomes da divulgação científica nacional e internacional e que marca o início do período letivo do Mestrado em Divulgação da Ciência\, Tecnologia e Saúde. \nProgramação  \n9h: Abertura \n9h30: “The Emergence of Modern Science Communication” (A Emergência da Moderna Comunicação Cientifica)\, palestra de TOSS GASCOIGNE\, do Australian Centre for Public Awareness of Science (Centro de Conscientização Pública da Ciência) – Australian National University. Baixe algumas de suas publicações em seu site.  Moderação: Luisa Massarani\, coordenadora do INCT-CPCT. \n10h30: Mesa-redonda – “Pesquisa e prática em Divulgação Científica”\nJennifer Metcalfe\, Econnect Communication (Austrália).\nAdriano Dias de Oliveira\, Museu de Microbiologia\, do Instituto Butantan (Brasil).\nTattiana Teixeira\, Universidade Federal de Santa Catarina (Brasil).\nRosicler Neves\, Museu da Vida\, Casa de Oswaldo Cruz\, da Fiocruz (Brasil). \nModeração: Jessica Norberto Rocha\, Fundação Cecierj \n12h15 às 13h30: Brunch \n13h30: “Movies\, Fiction\, and Science Communication” (Filmes\, Ficção e Comunicação da Ciência)\, palestra de DAVID KIRBY\, diretor do Science Technology & Society Program\, Cal Poly (Estados Unidos). Baixe alguns de seus artigos em seu site. \nModerador: Fernando Alves\, mestre pelo programa de Mestrado em Divulgação da Ciência\, Tecnologia e Saúde. \n14h30: Mesa-redonda – “Controvérsias na ciência”\nMartha Marandino\, pesquisadora da Universidade de São Paulo (Brasil)\nIgor Waltz\, Instituto Nacional de Comunicação Pública da Ciência e Tecnologia (Brasil)\nMarina Ramalho e Silva\, Museu da Vida\, Casa de Oswaldo Cruz\, Fiocruz (Brasil)\nModeradora: Carla Gruzman\, Museu da Vida\, Casa de Oswaldo Cruz\, Fiocruz \nA realização é do Instituto Nacional de Comunicação Pública da Ciência e Tecnologia\, do mestrado em Divulgação da Ciência\, Tecnologia e Saúde\, da especialização em Divulgação e Popularização da Ciência\, do Museu da Vida e da Casa de Oswaldo Cruz. Além disso\, conta com apoio da Fundação de Amparo à Pesquisa do Estado do Rio de Janeiro (Faperj) e do Conselho Nacional de Desenvolvimento Científico e Tecnológico (CNPq).
URL:https://cienciaviva.org.br/evento/seminario-a-ciencia-da-divulgacao-cientifica-iv/
LOCATION:Tenda da Ciência\, Museu da Vida\, Fiocruz\, Rio de Janeiro\, RJ\, Brasil
CATEGORIES:Calendário de Eventos
ATTACH;FMTTYPE=image/jpeg:https://cienciaviva.org.br/wp-content/uploads/2020/01/IMG_1206-1.jpg
ORGANIZER;CN="Instituto Nacional de Comunica%C3%A7%C3%A3o P%C3%BAblica da Ci%C3%AAncia e Tecnologia":MAILTO:inct.cpct@gmail.com
END:VEVENT
BEGIN:VEVENT
DTSTART;TZID=America/Sao_Paulo:20200316T000000
DTEND;TZID=America/Sao_Paulo:20200322T235900
DTSTAMP:20260424T230656
CREATED:20200221T000922Z
LAST-MODIFIED:20200318T204208Z
UID:1953-1584316800-1584921540@cienciaviva.org.br
SUMMARY:Sábado da Ciência\, XI Semana do Cérebro RJ\, 2020
DESCRIPTION:Aventuras da Imaginação e Criatividade\n\n \n\nCelebre e participe triplamente nas \n\n XXV Semana Internacional do Cérebro\nXI Semana do Cérebro RJ \nIX Semana Nacional do Cérebro\n\n\n\n\n\n\n  \n  \n\n\n\n\n\n \nA Semana de Conscientização do Cérebro é uma campanha mundial para promover o entusiasmo público e apoio à Ciência do Cérebro. Todo mês de março\, instituições\, pesquisadores e educadores de todo o mundo realizam atividades criativas em suas comunidades que compartilham as maravilhas do Cérebro e o impacto da Ciência do Cérebro em nossas vidas diárias. \nA Semana do Cérebro foi criada pela Dana Alliance for Brain Initiatives (DABI) e a European Dana Alliance for the Brain (EDAB)\, sendo coordenada pela Dana Foundation. \n\n\n\n\n\n\n\n\n\n\nA campanha chega aos seus 25 anos e a Celebração está marcada para 16 a 22\, de março de 2020. \nA Dana Foundation convida a todos para se envolverem! \nVisite a seção Become a Partner (Se Torne um Parceiro) para saber mais. \n  \nAs Semanas do Cérebro do Rio de Janeiro\nNo Brasil\, a organização CIÊNCIA & COGNIÇÃO e o Núcleo de Divulgação Científica e Ensino de Neurociências da Universidade Federal do Rio de Janeiro (CeC-NuDCEN/UFRJ) criaram em 2010 o Projeto Museu Itinerante de Neurociências e a primeira Semana do Cérebro no estado do Rio de Janeiro\, realizando desde então\, Campanhas anuais temáticas\, atuando junto com vários parceiros na organização e realização da Semana do Cérebro do Rio de Janeiro. Conheça os temas anteriores foram. \n\nI Semana do Cérebro: uma neuraventura sensorial\nII Semana do Cérebro: desvendando a memória\nIII Semana do Cérebro: viajando na linguagem\nIV Semana do Cérebro: são tantas emoções\nV Semana do Cérebro: diferentes visões do mundo – distúrbios\nVI Semana do Cérebro: fazendo arte com o cérebro\nVII Semana do Cérebro: uma mente sã num corpo são\nVIII Semana do Cérebro: Entendendo ConsCiência\nIX Semana do Cérebro: Envelhecimento e o Cérebro\nX Semana do Cérebro: Neurociências e Educação\n\n\nE em 2020\,  teremos como tema  “XI Semana do Cérebro – Imaginação e Criatividade”. \nAs Semanas Nacionais do Cérebro\nDesde 2012\, a campanha ganhou uma versão nacional\, a Semana Nacional do Cérebro graças às iniciativas da Sociedade Brasileira de Neurociências e Comportamento (SBNeC). \nA IX Semana Nacional do Cérebro estará comemorando com o tema \nMulheres na Neurociência: Singulares e Altamente Conectadas\n  \n 
URL:https://cienciaviva.org.br/evento/semana-de-conscientizacao-do-cerebro-2020/
LOCATION:Espaço Ciência Viva\, Av. Heitor Beltrão\, 321 (esquina com R. Pareto)\, Rio de Janeiro\, Rio de Janeiro\, 20550-000\, Brasil
CATEGORIES:Calendário de Eventos,Sábados de Ciência
ATTACH;FMTTYPE=image/jpeg:https://cienciaviva.org.br/wp-content/uploads/2020/02/sdcmarco2020adiado.jpg
ORGANIZER;CN="Espa%C3%A7o Ci%C3%AAncia Viva":MAILTO:museu@cienciaviva.org.br
END:VEVENT
END:VCALENDAR