BEGIN:VCALENDAR
VERSION:2.0
PRODID:-//ECV - ECPv6.15.20//NONSGML v1.0//EN
CALSCALE:GREGORIAN
METHOD:PUBLISH
X-ORIGINAL-URL:https://cienciaviva.org.br
X-WR-CALDESC:Eventos para ECV
REFRESH-INTERVAL;VALUE=DURATION:PT1H
X-Robots-Tag:noindex
X-PUBLISHED-TTL:PT1H
BEGIN:VTIMEZONE
TZID:America/Sao_Paulo
BEGIN:STANDARD
TZOFFSETFROM:-0200
TZOFFSETTO:-0300
TZNAME:-03
DTSTART:20190217T020000
END:STANDARD
END:VTIMEZONE
BEGIN:VEVENT
DTSTART;TZID=America/Sao_Paulo:20200703T150000
DTEND;TZID=America/Sao_Paulo:20200703T163000
DTSTAMP:20260422T160149
CREATED:20200626T235352Z
LAST-MODIFIED:20200702T183014Z
UID:7112-1593788400-1593793800@cienciaviva.org.br
SUMMARY:Imunidade\, inflamação e o tempo na pandemia
DESCRIPTION:Convidamos a todos a participarem do nosso debate “Imunidade\, Inflamação e o Tempo na Pandemia“ com os pesquisadores: \n  \nClaudia Farias Benjamim. \nGraduada em Ciências Biológicas pela Universidade do Estado do Rio de Janeiro\, mestrado em Química Biológica pela Universidade Federal do Rio de Janeiro e doutorado em Farmacologia pela Universidade de São Paulo. Atualmente é professora associada do Instituto de Biofísica Carlos Chagas Filho\, na Universidade Federal do Rio de Janeiro. Pesquisadora “Cientista do Nosso Estado”. Tem experiência na área de Inflamação\, Imunologia e Farmacologia\, com ênfase em Imunofarmacologia celular\, atuando principalmente nos seguintes temas: sepse e imunossupressão; fibrose pulmonar; lesão cutânea de difícil cicatrização em animais diabéticos; migração e ativação celular principalmente de células dendríticas e Tregs. O  grupo foca no estudo dos mediadores inflamatórios e na resposta celular como possíveis alvos terapêuticos em doenças inflamatórias crônicas. \nMarcelo Torres Bozza. \nGraduado em Medicina pela Universidade do Estado do Rio de Janeiro\, mestrado em Biologia Parasitária pela Fundação Oswaldo Cruz e doutorado em Biologia Celular e Molecular pela Fundação Oswaldo Cruz. Foi Pesquisador Convidado da Harvard School of Public Health. Atualmente é professor titular da Universidade Federal do Rio de Janeiro participando ativamente da formação de alunos de graduação e pós-graduação. Ajudou na criação e coordenou o programa de pós-graduação em Imunologia e Inflamação (UFRJ) de 2012 a 2016\, é coordenador da Rede Multidisciplinar de Biologia Computacional para o estudo da interação parasito-hospedeiro do Programa de Biologia Computacional da CAPES\, foi secretário-geral da Sociedade Brasileira de Imunologia.  Atua como revisor de diversos periódicos científicos. Tem experiência na área de Imunologia\, com ênfase em Inflamação\, atuando principalmente nos seguintes temas: inflamação e imunidade inata. \nO debate será mediado por: \n\nProfa.  Dra. Eleonora Kurtenbach e\nProf. Dr.  Robson Coutinho Silva.\n\nOs convidados realizarão um bate-papo sobre as respostas temporais doSistema Imunológico do hospedeiro à infecção pelo novo coronavírus Sars-Cov-2\, o causador da Covid-19. \nA Inflamação será a cereja do bolo deste debate! \nPreparem sua perguntas! \nEsperamos vocês às 15 horas do dia 3 de julho\, em nosso canal do Youtube ou em nossa página do Facebook. \nLink para a Live no Youtube: https://youtu.be/ojvCArqaVJo \nVai ser uma conversa muito legal\, você não pode perder! Até lá! \nOBS.: \nCaso queira receber certificado de participação no evento\, se inscreva neste link até o início da transmissão da Conversa com Pesquisadores! \nLink para inscrição: https://bit.ly/3gaky4r \nApós a transmissão\, será enviado um link aos emails dos inscritos para receber a ficha de Avaliação da Conversa Com Pesquisadores para emissão do Certificado. \n#ecv \n#espacocienciaviva \n#live \n#imunidade \n#pandemia \n#novocoronavir#covid19
URL:https://cienciaviva.org.br/evento/imunidade-inflamacao-e-o-tempo-na-pandemia/
LOCATION:Ciência Ao Vivo em Sua Casa!
CATEGORIES:Calendário de Eventos,Vida e Saúde
ORGANIZER;CN="Espa%C3%A7o Ci%C3%AAncia Viva":MAILTO:museu@cienciaviva.org.br
END:VEVENT
BEGIN:VEVENT
DTSTART;VALUE=DATE:20200713
DTEND;VALUE=DATE:20200717
DTSTAMP:20260422T160149
CREATED:20200123T103548Z
LAST-MODIFIED:20200123T103548Z
UID:2165-1594598400-1594943999@cienciaviva.org.br
SUMMARY:XX Encontro Nacional de Ensino de Química (2020)
DESCRIPTION:Bienalmente acontece o Encontro Nacional de Ensino de Química\, evento organizado pela comunidade de educadores químicos do Brasil\, com apoio constante da Divisão de Ensino da Sociedade Brasileira de Química (SBQ) e realização\, a partir dessa edição\, da Sociedade Brasileira de Ensino de Química (SBenQ). \nA vigésima edição do evento é o ENEQ Pernambuco\, organização conjunta da Universidade Federal Rural de Pernambuco e Universidade Federal de Pernambuco\, a ser realizado na cidade de Recife\, Pernambuco\, no campus da Universidade Federal de Pernambuco. \nO Encontro Nacional de Ensino de Química (ENEQ) teve sua primeira edição realizada no ano de 1982\, na Faculdade de Educação da Unicamp\, sendo coordenado pelas professoras Roseli Pacheco Schenetzler e Maria Eunice Ribeiro Marcondes. \nEsse Evento conta\, hoje\, com dezenove edições\, sendo a última realizada na cidade de Rio Branco\, Acre\, o primeiro realizado na região norte – um sucesso\, marcado pela fundação da SBEnQ e participação ativa dos professores da rede pública do estado.
URL:https://cienciaviva.org.br/evento/xx-encontro-nacional-de-ensino-de-quimica-2020/
LOCATION:Universidade Federal de Pernambuco (UFPE) campus Recife –  Cidade Universitária\, Cidade Universitária\, UFPE\, Recife\, PE\, Brasil
CATEGORIES:Calendário de Eventos
ATTACH;FMTTYPE=image/jpeg:https://cienciaviva.org.br/wp-content/uploads/2020/01/ENEQ.714efacf69554ae5a1d9.jpeg
END:VEVENT
END:VCALENDAR