BEGIN:VCALENDAR
VERSION:2.0
PRODID:-//ECV - ECPv6.15.20//NONSGML v1.0//EN
CALSCALE:GREGORIAN
METHOD:PUBLISH
X-WR-CALNAME:ECV
X-ORIGINAL-URL:https://cienciaviva.org.br
X-WR-CALDESC:Eventos para ECV
REFRESH-INTERVAL;VALUE=DURATION:PT1H
X-Robots-Tag:noindex
X-PUBLISHED-TTL:PT1H
BEGIN:VTIMEZONE
TZID:America/Sao_Paulo
BEGIN:STANDARD
TZOFFSETFROM:-0200
TZOFFSETTO:-0300
TZNAME:-03
DTSTART:20190217T020000
END:STANDARD
END:VTIMEZONE
BEGIN:VEVENT
DTSTART;TZID=America/Sao_Paulo:20201017T080000
DTEND;TZID=America/Sao_Paulo:20201030T170000
DTSTAMP:20260422T075351
CREATED:20201016T161258Z
LAST-MODIFIED:20201021T122109Z
UID:7835-1602921600-1604077200@cienciaviva.org.br
SUMMARY:SNCT2020 Espaço Ciência Viva
DESCRIPTION:17a.  Semana Nacional de Ciência e Tecnologia (SNCT2020)! \nA nossa SNCT Espaço Ciência Viva irá ocorrer de forma ampliada do dia 17 ao dia 30 de outubro! \nO tema deste ano é Inteligência Artificial! A Nova Fronteira da Ciência Brasileira! \nO evento visa promover projetos\, ações\, programas e eventos de divulgação científica em todo o Brasil. Uma iniciativa do @mctic\, a SNCT chega à sua 17ª edição. Para o Espaço Ciência Viva (ECV)\, a Ciência é celebrada o ano inteiro\, mas um evento “cereja do bolo” como a SNCT é sempre muito especial! \nProgramaação completa: http://cienciaviva.org.br/index.php/2020/10/21/snct2020-ia-programacao/ \nO Ciência Viva\, que participa da SNCT desde sua 1ª edição\, em 2004 (a gente não perde uma)\, montou uma programação especial\, toda on line\, que contará com a participação de nossa equipe\, convidados especialistas em Inteligência Artificial (IA)\, e é claro\, a sua PRESENÇA! \nVocê poderá assistir às nossas atividades \nem nosso canal do Youtube www.youtube.com/espacocienciavivaecv \ne no Facebook  https://www.facebook.com/espacocienciaviva . \nReceberemos convidados de várias instituições de municípios do RJ e de outros estados do Brasil\, como a UFRJ do Rio e de Macaé\, a UFRRJ em Seropédica\, a Secretaria de Educação do Espírito Santo (SEDU-ES)\, o Instituto Federal do Amapá (IFAP)\, dentre outras espalhadas de Norte a Sul do país. \nFique ligado em nossa programação \nhttp://cienciaviva.org.br/index.php/2020/10/21/snct2020-ia-programacao/ \nE confira a programação de outros centros e museus de Ciências pelo Brasil. As instituições estão fazendo bonito e estamos muito animados para assistir tudo! \n#espacocienciaviva #ecv #divulgacaocientifica #ciencias #snct2020 #snctmcti #CNPq #MCTIC #inteligenciaartificial #ia #tecnologia #technology #faperj #ufrj #ufrrj #sedues #ifap #informatica #tech #inovacao #pc #digital #instagram #windows #computador #redes #wifi #live #youtube #facebook
URL:https://cienciaviva.org.br/evento/snct2020-espaco-ciencia-viva/
LOCATION:EspaçoCienciaVivaComVoceEmCasa
CATEGORIES:Calendário de Eventos,SNCT,Ver Ciência
ATTACH;FMTTYPE=image/jpeg:https://cienciaviva.org.br/wp-content/uploads/2020/10/121644703_3505868856139297_3828518690303236660_o.jpg
ORGANIZER;CN="Espa%C3%A7o Ci%C3%AAncia Viva":MAILTO:museu@cienciaviva.org.br
END:VEVENT
BEGIN:VEVENT
DTSTART;VALUE=DATE:20201030
DTEND;VALUE=DATE:20201103
DTSTAMP:20260422T075351
CREATED:20200123T140319Z
LAST-MODIFIED:20200905T110938Z
UID:2185-1604016000-1604361599@cienciaviva.org.br
SUMMARY:23º Encontro Nacional de Astronomia
DESCRIPTION:Em virtude da pandemia de Covid-19 e as medidas de distanciamento social\, a Fundação CEU precisou pausar suas atividades neste ano\, alterando todo o calendário de ações. \nComo consequência\, será necessário cancelar o 23° Encontro Nacional de Astronomia (ENAST) que seria sediado na Fundação CEU na Cidade de Brotas/SP em Novembro de 2020. \nA nova data será definida assim que as atividades presenciais puderem ser retomadas e divulgada logo que possível\, nesta ocasião\, realizaremos uma ampla divulgação. \nEsperamos que seja possível contar com a sua participação em nosso evento.\nAgradecemos pela compreensão e pedimos desculpas pelo transtorno. \nA 23ª edição do Encontro Nacional de Astronomia seria realizada na Fundação CEU\, em Brotas-SP. \nTerá a Radioastronomia como tema principal do evento\, uma escolha inspirada na primeira “fotografia” de um buraco negro\, publicada em 2019 e a fim de ressaltar a importância deste ramo da ciência. \nO primeiro ENAST temático foi realizado em 2011\, na Cidade de São Paulo-SP\, com o tema “Poluição Luminosa”. Em 2019\, o ENAST de Sobral-CE comemorou o centenário do eclipse que comprovou a teoria da relatividade geral de Einstein. \nConfira no site mais informações do Encontro.
URL:https://cienciaviva.org.br/evento/23o-encontro-nacional-de-astronomia/
LOCATION:Fundação Centro de Estudos do Universo\, Rua Emílio Dalla Déa\, s/n\, Campos Elíseos\, Brotas\, SP\, Brasil
CATEGORIES:Calendário de Eventos
ATTACH;FMTTYPE=image/png:https://cienciaviva.org.br/wp-content/uploads/2020/01/ENAST_Logo-1-300x300-1.png
END:VEVENT
END:VCALENDAR