BEGIN:VCALENDAR
VERSION:2.0
PRODID:-//ECV - ECPv6.15.20//NONSGML v1.0//EN
CALSCALE:GREGORIAN
METHOD:PUBLISH
X-ORIGINAL-URL:https://cienciaviva.org.br
X-WR-CALDESC:Eventos para ECV
REFRESH-INTERVAL;VALUE=DURATION:PT1H
X-Robots-Tag:noindex
X-PUBLISHED-TTL:PT1H
BEGIN:VTIMEZONE
TZID:America/Sao_Paulo
BEGIN:STANDARD
TZOFFSETFROM:-0300
TZOFFSETTO:-0300
TZNAME:-03
DTSTART:20250101T000000
END:STANDARD
END:VTIMEZONE
BEGIN:VEVENT
DTSTART;TZID=America/Sao_Paulo:20260401T080000
DTEND;TZID=America/Sao_Paulo:20260430T170000
DTSTAMP:20260422T234022
CREATED:20260322T154732Z
LAST-MODIFIED:20260322T154732Z
UID:26249-1775030400-1777568400@cienciaviva.org.br
SUMMARY:Abril Azul: Conscientização sobre TEA.
DESCRIPTION:Abril Azul\nConscientização sobre o Transtorno do Espectro Autista (TEA)\nVoltado à informação\, inclusão e combate ao preconceito em relação às pessoas com autismo.\n\n\n\nO Mês Azul surgiu a partir de uma iniciativa da Organização das Nações Unidas (ONU)\, ligada à criação do Dia Mundial de Conscientização do Autismo\, em 2007. \nEm 2007: a Assembleia Geral da ONU instituiu oficialmente o Dia Mundial de Conscientização sobre o Autismo\, celebrado em 2 de abril. A partir dessa definição\, o mês de abril passou a ser reconhecido internacionalmente como o “Abril Azul”\, dedicado à conscientização do Transtorno do Espectro Autista (TEA) \nPor que “Azul”? A cor azul foi adotada como símbolo da campanha nos anos seguintes\, em ações globais de conscientização\, e se consolidou como referência visual do movimento.
URL:https://cienciaviva.org.br/evento/abril-azul-conscientizacao-sobre-tea/
LOCATION:Planeta Terra\, Sistema Solar\, 3o\, planeta.
CATEGORIES:Mês Nacional
END:VEVENT
END:VCALENDAR