BEGIN:VCALENDAR
VERSION:2.0
PRODID:-//ECV - ECPv6.15.20//NONSGML v1.0//EN
CALSCALE:GREGORIAN
METHOD:PUBLISH
X-WR-CALNAME:ECV
X-ORIGINAL-URL:https://cienciaviva.org.br
X-WR-CALDESC:Eventos para ECV
REFRESH-INTERVAL;VALUE=DURATION:PT1H
X-Robots-Tag:noindex
X-PUBLISHED-TTL:PT1H
BEGIN:VTIMEZONE
TZID:America/Sao_Paulo
BEGIN:STANDARD
TZOFFSETFROM:-0300
TZOFFSETTO:-0300
TZNAME:-03
DTSTART:20250101T000000
END:STANDARD
END:VTIMEZONE
BEGIN:VEVENT
DTSTART;VALUE=DATE:20260407
DTEND;VALUE=DATE:20260408
DTSTAMP:20260422T160626
CREATED:20200325T212124Z
LAST-MODIFIED:20260315T003816Z
UID:3619-1775520000-1775606399@cienciaviva.org.br
SUMMARY:Dia Mundial da Saúde
DESCRIPTION:O Dia Mundial da Saúde de 2026 convida pessoas de todo o mundo a apoiarem a ciência.  \nCom o tema “Juntos pela saúde. Apoie a ciência”\, a celebração deste ano dá início a uma campanha que se estenderá por todo o ano\, destacando o poder da colaboração científica para proteger a saúde das pessoas\, dos animais\, das plantas e do planeta.  \nA campanha ressalta tanto as conquistas científicas quanto a cooperação multilateral necessária para transformar evidências em ações – com forte enfoque na abordagem “Uma Só Saúde”. \nA campanha de 2026 é ancorada por dois grandes momentos globais:  \na Cúpula Internacional de Saúde Única (7 de abril)\, organizada pela OMS e pelo Governo da França sob a Presidência francesa do G7\,  \ne o Fórum Global inaugural dos Centros Colaboradores da OMS (7 a 9 de abril)\, que reúne quase 800 instituições científicas de mais de 80 países.  \nJuntos\, esses eventos formam a maior rede científica já reunida em torno de uma agência das Nações Unidas\, ressaltando como parcerias baseadas na ciência podem construir um futuro mais saudável e seguro para todos. \nA campanha convida pessoas de todo o mundo a participar – celebrando as conquistas científicas\, interagindo com as evidências\, compartilhando histórias pessoais de como a ciência melhora vidas e juntando-se à conversa global através da hashtag #StandWithScience. \nObjetivos da campanha\nA campanha convoca governos\, cientistas\, profissionais de saúde\, parceiros e o público em geral a: \n\nApoie a ciência\, baseando-se em evidências\, fatos e orientações científicas para proteger a saúde;\nreconstruir a confiança na ciência e na saúde pública; e\nApoiar soluções baseadas na ciência para um futuro mais saudável.
URL:https://cienciaviva.org.br/evento/dia-mundial-da-saude/
LOCATION:Planeta Terra\, Sistema Solar\, 3o\, planeta.
CATEGORIES:Calendário de Eventos,Dia Mundial,Vida e Saúde
END:VEVENT
END:VCALENDAR