BEGIN:VCALENDAR
VERSION:2.0
PRODID:-//ECV - ECPv6.15.20//NONSGML v1.0//EN
CALSCALE:GREGORIAN
METHOD:PUBLISH
X-ORIGINAL-URL:https://cienciaviva.org.br
X-WR-CALDESC:Eventos para ECV
REFRESH-INTERVAL;VALUE=DURATION:PT1H
X-Robots-Tag:noindex
X-PUBLISHED-TTL:PT1H
BEGIN:VTIMEZONE
TZID:America/Sao_Paulo
BEGIN:STANDARD
TZOFFSETFROM:-0300
TZOFFSETTO:-0300
TZNAME:-03
DTSTART:20250101T000000
END:STANDARD
END:VTIMEZONE
BEGIN:VEVENT
DTSTART;VALUE=DATE:20260212
DTEND;VALUE=DATE:20260213
DTSTAMP:20260422T194611
CREATED:20260211T201548Z
LAST-MODIFIED:20260211T203432Z
UID:1317-1770854400-1770940799@cienciaviva.org.br
SUMMARY:Dia de Charles Darwin
DESCRIPTION:O Dia de Darwin é uma celebração para comemorar o nascimento de Charles Darwin em 12 de fevereiro de 1809. \nNeste ano (2026) ele estaria comemorando 217 anos! \nO Dia é usado para destacar as contribuições de Charles Darwin à Ciência e para promover a Ciência em geral. \nO Dia de Darwin é celebrado atualmente em todo o mundo!
URL:https://cienciaviva.org.br/evento/dia-de-charles-darwin/
CATEGORIES:Calendário de Eventos,Dia Internacional,Vida e Saúde
ATTACH;FMTTYPE=image/jpeg:https://cienciaviva.org.br/wp-content/uploads/2019/09/Charles-Robert-Darwin.jpg
END:VEVENT
END:VCALENDAR