BEGIN:VCALENDAR
VERSION:2.0
PRODID:-//ECV - ECPv6.15.20//NONSGML v1.0//EN
CALSCALE:GREGORIAN
METHOD:PUBLISH
X-WR-CALNAME:ECV
X-ORIGINAL-URL:https://cienciaviva.org.br
X-WR-CALDESC:Eventos para ECV
REFRESH-INTERVAL;VALUE=DURATION:PT1H
X-Robots-Tag:noindex
X-PUBLISHED-TTL:PT1H
BEGIN:VTIMEZONE
TZID:America/Sao_Paulo
BEGIN:STANDARD
TZOFFSETFROM:-0300
TZOFFSETTO:-0300
TZNAME:-03
DTSTART:20230101T000000
END:STANDARD
END:VTIMEZONE
BEGIN:VEVENT
DTSTART;VALUE=DATE:20240519
DTEND;VALUE=DATE:20240520
DTSTAMP:20260425T180646
CREATED:20200520T034722Z
LAST-MODIFIED:20240519T151556Z
UID:6445-1716076800-1716163199@cienciaviva.org.br
SUMMARY:Dia Nacional do Físico
DESCRIPTION:A Sociedade Brasileira de Física celebra na  quinta-feira\, 19 de maio\, o Dia Nacional do Físico\, uma data especial que homenageia o trabalho desses cientistas. \nAo contrário do que muitas pessoas pensam\, o dia 19/5 \n\nnão é o aniversário do pai da Física\, Issac Newton (4/1)\,\nnem do precursor Galileu Galilei (15/2)\,\nnem do criador da Relatividade\, Albert Einstein (14/3)\,\nnem do popular Stephen Hawking (8/1)\, n\nem do sistematizador do Eletromagnetismo\, James C. Maxwell (13/6)\ne nem o descobridor da partícula “píon”\, o brasileiro César Lattes. (8/5).\n\nO dia é uma referência ao ano em que Albert Einstein publicou seu trabalho sobre sua Teoria da Relatividade\, 1905. \nEsta data específica é uma referência ao Albert Einstein Annus Mirabilis\, ao ano em que ele publicou seu trabalho sobre a Teoria da Relatividade\, 1905. Os quatro artigos que Einstein publicou ao longo desse ano contribuíram substancialmente para a fundação da física moderna e mudaram de opinião. no espaço\, tempo\, massa e energia. \nNo Brasil\, começamos a comemorar esse dia a partir de 2005\, quando a ONU (Organização das Nações Unidas) fez um pronunciamento dedicando aquele o “Ano Internacional da Física”\, em lembrança ao “Ano Miraculoso de Einstein”\, que completava cem anos. \nConheça alguns dos Físicos Brasileiros. \nConheça a Revista Física na Escola! \nConheça Cesar Lattes! \n \n 
URL:https://cienciaviva.org.br/evento/dia-nacional-do-fisico/
CATEGORIES:Dias Nacionais,Universo
ATTACH;FMTTYPE=image/jpeg:https://cienciaviva.org.br/wp-content/uploads/2020/05/Dia-do-Fisico.jpg
END:VEVENT
END:VCALENDAR