BEGIN:VCALENDAR
VERSION:2.0
PRODID:-//ECV - ECPv6.15.20//NONSGML v1.0//EN
CALSCALE:GREGORIAN
METHOD:PUBLISH
X-WR-CALNAME:ECV
X-ORIGINAL-URL:https://cienciaviva.org.br
X-WR-CALDESC:Eventos para ECV
REFRESH-INTERVAL;VALUE=DURATION:PT1H
X-Robots-Tag:noindex
X-PUBLISHED-TTL:PT1H
BEGIN:VTIMEZONE
TZID:America/Sao_Paulo
BEGIN:STANDARD
TZOFFSETFROM:-0300
TZOFFSETTO:-0300
TZNAME:-03
DTSTART:20250101T000000
END:STANDARD
END:VTIMEZONE
BEGIN:VEVENT
DTSTART;VALUE=DATE:20260712
DTEND;VALUE=DATE:20260713
DTSTAMP:20260424T224036
CREATED:20210627T150220Z
LAST-MODIFIED:20260221T201724Z
UID:13383-1783814400-1783900799@cienciaviva.org.br
SUMMARY:Dia Mundial do Engenheiro Florestal
DESCRIPTION:A escolha desta data é uma homenagem a São João Gualberto (c. 995-1073)\, que morreu em 12 de julho de 1073. \nEsse santo da igreja católica foi um monge italiano que dedicou toda a sua vida ao cultivo de bosques florestais durante o século X e\, por isso\, foi consagrado pelo Papa Pio XII como o “Protetor dos Florestais”. \nUma coincidência com o antigo festival romano de julho\, a Lucaria\, também dedicada aos bosques. \nA Lucaria era um festival romano da Antiguidade\, celebrado nos dias 19 e 21 de julho\, dedicado ao lucus\, isto é\, um bosque sagrado. Era um rito tão antigo que\, já na época de Varrão (século I a.C.)\, sua origem já era antiga.\nEra um festival ligado à veneração de bosques\, indicando que os romanos primitivos tinham práticas religiosas de culto à natureza semelhantes às dos povos gauleses.\n\n\nSegundo o gramático Verrius Flaccus\, a Lucaria era celebrada em um grande bosque entre a Via Salaria e o rio Tibre\, onde\, segundo a tradição tardia\, romanos sobreviventes à derrota na Batalha do Rio Alia (18 de julho\, contra os gauleses) teriam se escondido. Esse bosque ficava na área que mais tarde se tornaria o Monte Pinciano (Pincio).
URL:https://cienciaviva.org.br/evento/dia-do-engenheiro-florestal/
LOCATION:Planeta Terra\, Sistema Solar\, 3o\, planeta.
CATEGORIES:Calendário de Eventos,Dia Mundial,Vida e Saúde
END:VEVENT
END:VCALENDAR