BEGIN:VCALENDAR
VERSION:2.0
PRODID:-//ECV - ECPv6.15.20//NONSGML v1.0//EN
CALSCALE:GREGORIAN
METHOD:PUBLISH
X-WR-CALNAME:ECV
X-ORIGINAL-URL:https://cienciaviva.org.br
X-WR-CALDESC:Eventos para ECV
REFRESH-INTERVAL;VALUE=DURATION:PT1H
X-Robots-Tag:noindex
X-PUBLISHED-TTL:PT1H
BEGIN:VTIMEZONE
TZID:America/Sao_Paulo
BEGIN:STANDARD
TZOFFSETFROM:-0300
TZOFFSETTO:-0300
TZNAME:-03
DTSTART:20250101T000000
END:STANDARD
END:VTIMEZONE
BEGIN:VEVENT
DTSTART;VALUE=DATE:20260304
DTEND;VALUE=DATE:20260305
DTSTAMP:20260424T194322
CREATED:20260304T201844Z
LAST-MODIFIED:20260304T201844Z
UID:25931-1772582400-1772668799@cienciaviva.org.br
SUMMARY:Dia Mundial de Conscientização sobre o HPV
DESCRIPTION:O dia foi criado pela International Papillomavirus Society (IPVS). \nA data foi proclamada em 4 de março de 2017\, durante a conferência HPV2017\, na Cidade do Cabo. A primeira celebração oficial ocorreu em 4 de março de 2018. \nA criação ocorreu como uma iniciativa institucional da IPVS para: \n\nelevar a consciência global sobre o HPV;\npromover prevenção\, vacinação e rastreamento;\nreduzir o estigma e disseminar informações baseadas em evidência;\napoiar ações globais alinhadas à estratégia da OMS para eliminação do câncer do colo do útero.\n\nO site oficial da IPVS é [ipvsoc.org] \nA sociedade mantém uma página com recursos educativos sobre a campanha em \nhttps://ipvs.site-ym.com/page/ipvs_eduportal_connect \n \nCada Ano\, Um Tema \nA campanha possui um tema global principal contínuo\, “One Less Worry” = Uma Preocupação a Menos\, adotado como mensagem central a partir de 2021–2026 pela IPVS\, divulgado na página \nAsk about HPV: https://www.askabouthpv.org/ \nE também pode criar temas anuais específicos\, como forma de mobilizar e integrar as diversas ações mundiais\, a cada ano é proposto um tema gerador\, de caráter não obrigatório. \nTema 2020: “Viral antes da Internet” – Viral Before the Internet #Ask about HPV. \n Tema 2021: “HPV: Um vírus que todos nós podemos vencer” que divulgou o seu material de campanha no Guia da Campanha. \nTema 2022 – 2026: utilizou e reforçou a campanha global #OneLessWorry. (Uma Preocupação a Menos) \nO site da campanha também apresenta histórias inspiradoras da rede da campanha contra o HPV \nO HPV afeta a todos\, direta ou indiretamente. Essas histórias destacam o impacto do HPV nos indivíduos\, a importância da ação e o trabalho que está sendo feito em todo o mundo para prevenir os cânceres relacionados ao HPV. Conheça as histórias aqui. \n  \n 
URL:https://cienciaviva.org.br/evento/dia-mundial-de-conscientizacao-sobre-o-hpv/
LOCATION:Planeta Terra\, Sistema Solar\, 3o\, planeta.
CATEGORIES:Dia Mundial
ATTACH;FMTTYPE=image/png:https://cienciaviva.org.br/wp-content/uploads/2026/03/hpvafetatodos.png
END:VEVENT
END:VCALENDAR