BEGIN:VCALENDAR
VERSION:2.0
PRODID:-//ECV - ECPv6.15.20//NONSGML v1.0//EN
CALSCALE:GREGORIAN
METHOD:PUBLISH
X-ORIGINAL-URL:https://cienciaviva.org.br
X-WR-CALDESC:Eventos para ECV
REFRESH-INTERVAL;VALUE=DURATION:PT1H
X-Robots-Tag:noindex
X-PUBLISHED-TTL:PT1H
BEGIN:VTIMEZONE
TZID:America/Sao_Paulo
BEGIN:STANDARD
TZOFFSETFROM:-0300
TZOFFSETTO:-0300
TZNAME:-03
DTSTART:20250101T000000
END:STANDARD
END:VTIMEZONE
BEGIN:VEVENT
DTSTART;VALUE=DATE:20260726
DTEND;VALUE=DATE:20260727
DTSTAMP:20260426T004550
CREATED:20210726T183348Z
LAST-MODIFIED:20260218T215142Z
UID:14361-1785024000-1785110399@cienciaviva.org.br
SUMMARY:Dia Mundial de Proteção aos Manguezais
DESCRIPTION:Capa: Caranguejo Chama-Maré (Uca princeps). Crédito Nestor Herrera. Acervo iNaturalist. Licença CC-BY-NC-4.0. \nO Dia Mundial de Proteção aos Manguezais foi criado pela Organização das Nações Unidas para a Educação\, a Ciência e a Cultura. A data foi instituída em 2015\, durante uma conferência da UNESCO. \nA escolha do dia 26 de julho homenageia Hayhow Daniel Nanoto\, um ativista ambiental que morreu defendendo os manguezais de Muisne\, no Equador. \nA UNESCO selecionou a data para reconhecer sua coragem e chamar atenção global para a conservação dos manguezais. \nOs manguezais de Muisne\, no Equador\, estavam sob grave ameaça devido: à expansão da indústria de camarão\, que historicamente destruiu enormes áreas de mangue na América Latina; à conversão de áreas naturais em empreendimentos econômicos; e à degradação ambiental causada por desmatamento e mudanças no uso do solo. \nEssas transformações colocavam em risco tanto o ecossistema quanto as comunidades tradicionais\, que dependem dos manguezais para pesca\, alimentação\, proteção costeira e clima equilibrado. \nHayhow Daniel Nanoto integrou movimentos comunitários que lutavam pelo restabelecimento e proteção das zonas úmidas de Muisne\, denunciando sua destruição e defendendo a restauração ambiental. \nNanoto foi morto durante um protesto ambiental que buscava justamente impedir a degradação dos manguezais e exigir sua recuperação. \nSua morte causou grande comoção nos movimentos ambientalistas internacionais. \n Nanoto simboliza: \na resistência das comunidades costeiras frente à exploração predatória; \no papel vital dos manguezais como berçários de vida marinha\, barreiras naturais e sumidouros de carbono; \na necessidade de ações urgentes para proteger esses ecossistemas\, que desaparecem até 5 vezes mais rápido que outras florestas globais (segundo UNESCO). \nOs manguezais são peças-chave no combate às mudanças climáticas\, contribuindo tanto na adaptação de seus impactos\, como na fixação de carbono. Eles atuam na proteção contra tempestades\, minimizando o impacto nas regiões costeiras e também são berçários para diversas espécies de peixes e mariscos. Ao fornecerem habitat para peixes e mariscos\, são cruciais para a subsistência de inúmeras comunidades costeiras. \nManguezais são áreas úmidas que ocorrem na transição entre ambientes marinhos e terrestres\, sujeitos ao regime de marés. Ocorrem nas regiões tropicais e subtropicais do planeta e no Brasil se estendem desde o Oiapoque\, no Amapá\, até Laguna\, em Santa Catarina\, totalizando uma área de 1.2 milhão hectares. O Brasil é o terceiro país com maior área de manguezais e o que abriga a maior área contínua deste ecossistema\, com 1.225.000 ha. \nPara saber mais sobre os Manguezais no Brasil\, clique aqui. \nConheça e divulgue o vídeo Mães do Mangue\, do projeto Mães do Mangue:  https://maesdomangue.com.br/. \nE o seu e-book de receitas do mangue\, Cozinha da Maré.
URL:https://cienciaviva.org.br/evento/dia-mundial-de-protecao-aos-manguezais/
LOCATION:Planeta Terra\, Sistema Solar\, 3o\, planeta.
CATEGORIES:Dia Mundial
ATTACH;FMTTYPE=image/jpeg:https://cienciaviva.org.br/wp-content/uploads/2021/07/caranguejochamamare.jpeg
END:VEVENT
END:VCALENDAR