BEGIN:VCALENDAR
VERSION:2.0
PRODID:-//ECV - ECPv6.15.20//NONSGML v1.0//EN
CALSCALE:GREGORIAN
METHOD:PUBLISH
X-WR-CALNAME:ECV
X-ORIGINAL-URL:https://cienciaviva.org.br
X-WR-CALDESC:Eventos para ECV
REFRESH-INTERVAL;VALUE=DURATION:PT1H
X-Robots-Tag:noindex
X-PUBLISHED-TTL:PT1H
BEGIN:VTIMEZONE
TZID:America/Sao_Paulo
BEGIN:STANDARD
TZOFFSETFROM:-0300
TZOFFSETTO:-0300
TZNAME:-03
DTSTART:20250101T000000
END:STANDARD
END:VTIMEZONE
BEGIN:VEVENT
DTSTART;VALUE=DATE:20260323
DTEND;VALUE=DATE:20260324
DTSTAMP:20260423T055234
CREATED:20220228T165407Z
LAST-MODIFIED:20260215T035554Z
UID:18187-1774224000-1774310399@cienciaviva.org.br
SUMMARY:Dia Mundial da Meteorologia
DESCRIPTION:  \nAs crises climática e de desigualdade têm de ser abordadas ao mesmo tempo\, \npara que ninguém fique para trás. \nSecretária Geral da OMM\, Prof. Celeste Saulo \n\nTodo dia 23 de março\, a Organização Mundial de Meteorologia Mundial (WMO) comemora a entrada em vigor da Convenção que criou a Organização Meteorológica Mundial em 23 de março de 1950 por meio da Resolução WMO/EC-XII/Res.6. \nMostra a contribuição essencial dos Serviços Meteorológicos e Hidrológicos Nacionais para a segurança e o bem-estar da sociedade e é celebrado com atividades em todo o mundo. \nOs temas escolhidos para o Dia Meteorológico Mundial refletem questões atuais relacionadas com o clima\, o clima ou a água. \nO tema de 2026: “Observar o hoje\, proteger o amanhã”\nVeja o álbum de fotos ganhadoras do concurso do Calendário 2024 da Organização Mundial de Meteorologia. \n  \n \n  \nE os temas anteriores foram: \n2025: Superando juntos a lacuna no alerta precoce \n2024: Na linha de frente da ação climática \n2023: O futuro do tempo\, do clima e da água ao longo das gerações. \n2022: Alerta Precoce e Ação Precoce. \n2021: O oceano\, o nosso clima e tempo. \n2020: Conte cada Gota. Cada Gota conta. \n2019: O Sol\, a Terra e o Clima. \n2018: Wheater ready. Climate smart. \nComo resultado dos gases com efeito de estufa que retêm o calor\, a temperatura média global é hoje mais de 1° Celsius superior à de há 150 anos. \nO nosso clima é mais extremo\, o nosso oceano está mais quente e mais ácido\, o nível do mar subiu e os glaciares e o gelo estão a derreter. A taxa de mudança está acelerando. Precisamos de medidas urgentes agora para reduzir as emissões e garantir que as gerações futuras possam sobreviver e prosperar no nosso planeta. \nA boa notícia é que os rápidos avanços científicos e tecnológicos melhoraram muito a precisão das previsões meteorológicas e dos alertas precoces que salvam vidas . Os grandes volumes de dados estão a ser trocados mais livremente entre uma comunidade mais ampla do que nunca\, e existem novas ferramentas\, incluindo a aprendizagem automática e a inteligência artificial. \nHouve progressos significativos na monitorização\, simulação e projeção do clima global para apoiar a tomada de decisões . O nosso tempo\, clima e ciclo da água serão diferentes no futuro e no passado. \nOs serviços meteorológicos\, climáticos e hidrológicos ajudar-nos-ão a enfrentar os desafios associados e a aproveitar as oportunidades. As previsões de como será o tempo já não são suficientes. \nAs previsões baseadas no impacto que informam o público sobre o que o tempo irá FAZER são vitais para salvar vidas e meios de subsistência. \nNo entanto\, uma em cada três pessoas ainda não está adequadamente coberta por sistemas de alerta precoce . \nAcompanhe as conversas com as hashtags: \n#WorldMetDay \, #23March \, #Meteorology \, #Climatology \, #Hydrology \, #weather .
URL:https://cienciaviva.org.br/evento/dia-mundial-da-meteorologia/
LOCATION:Planeta Terra\, Sistema Solar\, 3o\, planeta.
CATEGORIES:Dia Mundial
END:VEVENT
END:VCALENDAR