BEGIN:VCALENDAR
VERSION:2.0
PRODID:-//ECV - ECPv6.15.20//NONSGML v1.0//EN
CALSCALE:GREGORIAN
METHOD:PUBLISH
X-WR-CALNAME:ECV
X-ORIGINAL-URL:https://cienciaviva.org.br
X-WR-CALDESC:Eventos para ECV
REFRESH-INTERVAL;VALUE=DURATION:PT1H
X-Robots-Tag:noindex
X-PUBLISHED-TTL:PT1H
BEGIN:VTIMEZONE
TZID:America/Sao_Paulo
BEGIN:STANDARD
TZOFFSETFROM:-0300
TZOFFSETTO:-0300
TZNAME:-03
DTSTART:20250101T000000
END:STANDARD
END:VTIMEZONE
BEGIN:VEVENT
DTSTART;VALUE=DATE:20260630
DTEND;VALUE=DATE:20260701
DTSTAMP:20260424T041054
CREATED:20190707T154232Z
LAST-MODIFIED:20260221T204936Z
UID:987-1782777600-1782863999@cienciaviva.org.br
SUMMARY:Dia Internacional do Asteroide
DESCRIPTION:Em dezembro de 2016\, a Assembleia das Nações Unidas adotou a resolução A/RES/71/90\, declarando o dia 30 de junho como o Dia Internacional do Asteroide de modo a  “lembrar” internacionalmente a  cada ano o aniversário do impacto conhecido como Evento Tunguska\, que destruiu oitenta milhões de árvores em uma área de dois mil quilômetros quadrados na Sibéria\, Federação Russa\, em 30 de junho de 1908\, e ampliar a consciência pública sobre os impactos que um asteroide pode ter sobre a vida no planeta. \n\n\n\nA Assembleia Geral tomou a decisão\, aprovando a proposta encaminhada pela Association of Space Explorers\, endorsada pelo  Committee on the Peaceful Uses of Outer Space (COPUOS). \n\n\n\nOs projetos de pesquisa e estudos sobre asteroides e possíveis colisões envolvem: \nMissões espaciais: com sondas\, telescópios espaciais vigiando ou estudando asteroides\, tais como: \n\nMissão Hera.\nMissão Lagrange.\nVeículo de Serviços espaciais.\n\nMissões terrestres: com telescópios e sistemas de defesa. \n\nTelescópio FlyEye (ESA\, Europa).\nRede de Serviços Climáticos Espaciais.\nCentro de Coordenação de Objetos Próximos da Terra.\n\n 
URL:https://cienciaviva.org.br/evento/dia-internacional-do-asteroide/
LOCATION:Planeta Terra\, Sistema Solar\, 3o\, planeta.
CATEGORIES:Calendário de Eventos,Dia Internacional,Universo
END:VEVENT
END:VCALENDAR